Workbook
Name AccountsGroup: OFFSET(Grootboekrekeningen!$D$11,0,0,Grootboekrekeningen!$B$9,1)
Name Accountsnames: OFFSET(Grootboekrekeningen!$B$11,0,0,Grootboekrekeningen!$B$9,1)
Name AccountsNumbers: OFFSET(Grootboekrekeningen!$C$11,0,0,Grootboekrekeningen!$B$9,1)
Name AccountsTotal: OFFSET(Grootboekrekeningen!$B$11,0,0,Grootboekrekeningen!$B$9,3)
Name Creditors: OFFSET(Grootboekrekeningen!$J$11,0,0,Grootboekrekeningen!$J$9,1)
Name Debtors: OFFSET(Grootboekrekeningen!$G$11,0,0,Grootboekrekeningen!$G$9,1)

Sheet Gebruiksaanwijzing
B3: Gebruiksaanwijzing
B4: Dit is een eenvoudig boekhoudprogramma
B5: Er zijn al zogenaamde "Dummy" gegevens ingevoerd als voorbeeld. Deze kun je verwijderen.
B7: Gegevens invoer
B8: Alle cellen zijn geblokkeerd behalve waar je gegevens moet invoeren. Er is geen wachtwoord ingesteld dus de-blokkeren is gemakkelijk.
B9: Rechts-klikken op tab en dan kiezen voor "Unprotect sheet" of "Beveiliging blad opheffen"
B11: Start
A12: 1. | B12: Vul de GROOTBOEKREKENINGEN in op het blad "Grootboekrekeningen". Standaard staan er al 111 in
A13: 2. | B13: Geef de Grootboekrekening een uniek REKENINGNUMMER en plaats ze in de juiste RUBRIEK, zodat de rekening getoond wordt op de BALANS en de WINST- EN VERLIESREKENING.
A14: 3. | B14: Je kunt de openingsbalans opstellen maar dat hoeft niet. Debiteuren en Crediteuren worden NIET in de openingsbalans opgenomen.
A15: 4. | B15: De BALANS moet altijd in EVENWICHT zijn.
A16: 5. | B16: Benoem de DEBITEUREN en CREDITEUREN op het blad "Grootboekrekeningen". Het saldo voer je in op de bladen "Debiteuren" en "Crediteuren" in kolom Startbedrag.
A17: 6. | B17: De namen van de Debiteuren en Crediteuren op het blad "Grootboekrekeningen" worden ZONDER spaties ingevoerd.
A18: 7. | B18: Debiteuren and Crediteuren kunnen NIET dezelfde naam krijgen, anders ontstaan er fouten en onverwachte resultaten.
A19: 8. | B19: Nu kun je met de boekhouding beginnen op het blad "Journaal". De resultaten verschijnen onmiddellijk op de andere bladen.
A20: 9. | B20: Elke boeking bestaat uit minimaal 2 regels. Bij de ene rekening komt er geld bij en bij de andere rekening gaat het eraf.
A21: 10 | B21: Je kunt de "Dummy" gegevens gebruiken om te experimenteren.

Sheet Journaal
B2: Journaal | D2: =SUM(F:F) -> 245020.62 | E2: =SUM(G:G) -> 245020.62
A3: None | C3: =MAX(B:B) -> 507 | D3: =COUNT(E:E) -> 99 | H3: =IF(D2=E2,"","Journaal is NIET in evenwicht!!! ->CORRIGEER")
B4: Nr | C4: Datum | D4: Rekening | E4: Rekeningnummer | F4: Debet | G4: Credit | H4: Naam | I4: Omschrijving
B5: 1 | C5: 44562 | D5: Gebouwen | E5: =IF($D5<>"",OFFSET(Grootboekrekeningen!$C$10,MATCH(D5,Accountsnames,0),0),"") -> 200 | F5: 80000 | I5: Gebouwen begin boekjaar
B6: 1 | C6: 44562 | D6: Vermogen begin jaar | E6: =IF($D6<>"",OFFSET(Grootboekrekeningen!$C$10,MATCH(D6,Accountsnames,0),0),"") -> 1990 | G6: 80000 | I6: Gebouwen begin boekjaar
B7: =B5+1 -> 2 | C7: 44562 | D7: Inventaris | E7: =IF($D7<>"",OFFSET(Grootboekrekeningen!$C$10,MATCH(D7,Accountsnames,0),0),"") -> 300 | F7: 4500 | I7: Inventaris begin boekjaar
B8: =B6+1 -> 2 | C8: 44562 | D8: Vermogen begin jaar | E8: =IF($D8<>"",OFFSET(Grootboekrekeningen!$C$10,MATCH(D8,Accountsnames,0),0),"") -> 1990 | G8: 4500 | I8: Inventaris begin boekjaar
B9: =B7+1 -> 3 | C9: 44562 | D9: Voorraden | E9: =IF($D9<>"",OFFSET(Grootboekrekeningen!$C$10,MATCH(D9,Accountsnames,0),0),"") -> 500 | F9: 25000 | I9: Voorraden begin boekjaar
B10: =B8+1 -> 3 | C10: 44562 | D10: Vermogen begin jaar | E10: =IF($D10<>"",OFFSET(Grootboekrekeningen!$C$10,MATCH(D10,Accountsnames,0),0),"") -> 1990 | G10: 25000 | I10: Voorraden begin boekjaar
B11: =B9+1 -> 4 | C11: 44562 | D11: Voertuigen | E11: =IF($D11<>"",OFFSET(Grootboekrekeningen!$C$10,MATCH(D11,Accountsnames,0),0),"") -> 800 | F11: 13252 | I11: Voertuigen begin boekjaar
B12: =B10+1 -> 4 | C12: 44562 | D12: Vermogen begin jaar | E12: =IF($D12<>"",OFFSET(Grootboekrekeningen!$C$10,MATCH(D12,Accountsnames,0),0),"") -> 1990 | G12: 13252 | I12: Voertuigen begin boekjaar
B13: =B11+1 -> 5 | C13: 44562 | D13: kas | E13: =IF($D13<>"",OFFSET(Grootboekrekeningen!$C$10,MATCH(D13,Accountsnames,0),0),"") -> 1000 | F13: 150 | I13: Kas begin boekjaar
B14: =B12+1 -> 5 | C14: 44562 | D14: Vermogen begin jaar | E14: =IF($D14<>"",OFFSET(Grootboekrekeningen!$C$10,MATCH(D14,Accountsnames,0),0),"") -> 1990 | G14: 150 | I14: Kas begin boekjaar
B15: =B13+1 -> 6 | C15: 44562 | D15: Bank | E15: =IF($D15<>"",OFFSET(Grootboekrekeningen!$C$10,MATCH(D15,Accountsnames,0),0),"") -> 1020 | F15: 5463 | I15: Bank begin boekjaar
B16: =B14+1 -> 6 | C16: 44562 | D16: Vermogen begin jaar | E16: =IF($D16<>"",OFFSET(Grootboekrekeningen!$C$10,MATCH(D16,Accountsnames,0),0),"") -> 1990 | G16: 5463 | I16: Bank begin boekjaar
B17: =B15+1 -> 7 | C17: 44562 | D17: Creditcard | E17: =IF($D17<>"",OFFSET(Grootboekrekeningen!$C$10,MATCH(D17,Accountsnames,0),0),"") -> 1030 | F17: 2530.25 | I17: Creditcard begin boekjaar
B18: =B16+1 -> 7 | C18: 44562 | D18: Vermogen begin jaar | E18: =IF($D18<>"",OFFSET(Grootboekrekeningen!$C$10,MATCH(D18,Accountsnames,0),0),"") -> 1990 | G18: 2530.25 | I18: Creditcard begin boekjaar
B19: =B17+1 -> 8 | C19: 44547 | D19: Debiteuren | E19: =IF($D19<>"",OFFSET(Grootboekrekeningen!$C$10,MATCH(D19,Accountsnames,0),0),"") -> 1300 | F19: 5632.23 | H19: Expert-Woerden | I19: Order 5252
B20: =B18+1 -> 8 | C20: 44547 | D20: Vermogen begin jaar | E20: =IF($D20<>"",OFFSET(Grootboekrekeningen!$C$10,MATCH(D20,Accountsnames,0),0),"") -> 1990 | G20: 5632.23 | I20: Order 5252
B21: =B19+1 -> 9 | C21: 44546 | D21: Debiteuren | E21: =IF($D21<>"",OFFSET(Grootboekrekeningen!$C$10,MATCH(D21,Accountsnames,0),0),"") -> 1300 | F21: 3846.85 | H21: Radio TV en Wasautomaten | I21: Order 5184
B22: =B20+1 -> 9 | C22: 44546 | D22: Vermogen begin jaar | E22: =IF($D22<>"",OFFSET(Grootboekrekeningen!$C$10,MATCH(D22,Accountsnames,0),0),"") -> 1990 | G22: 3846.85 | I22: Order 5184
B23: =B21+1 -> 10 | C23: 44549 | D23: Debiteuren | E23: =IF($D23<>"",OFFSET(Grootboekrekeningen!$C$10,MATCH(D23,Accountsnames,0),0),"") -> 1300 | F23: 1526.73 | H23: Pater Elektro | I23: Order 5271
B24: =B22+1 -> 10 | C24: 44549 | D24: Vermogen begin jaar | E24: =IF($D24<>"",OFFSET(Grootboekrekeningen!$C$10,MATCH(D24,Accountsnames,0),0),"") -> 1990 | G24: 1526.73 | I24: Order 5271
B25: =B23+1 -> 11 | C25: 44550 | D25: Crediteuren | E25: =IF($D25<>"",OFFSET(Grootboekrekeningen!$C$10,MATCH(D25,Accountsnames,0),0),"") -> 1600 | G25: 237.25 | H25: KPN Telecom | I25: Viking fact. 12345
B26: =B24+1 -> 11 | C26: 44550 | D26: Vermogen begin jaar | E26: =IF($D26<>"",OFFSET(Grootboekrekeningen!$C$10,MATCH(D26,Accountsnames,0),0),"") -> 1990 | F26: 237.25 | I26: Viking fact. 12345
B27: =B25+1 -> 12 | C27: 44551 | D27: Crediteuren | E27: =IF($D27<>"",OFFSET(Grootboekrekeningen!$C$10,MATCH(D27,Accountsnames,0),0),"") -> 1600 | G27: 4606.69 | H27: VattenFall | I27: Miele fact.58952
B28: =B26+1 -> 12 | C28: 44551 | D28: Vermogen begin jaar | E28: =IF($D28<>"",OFFSET(Grootboekrekeningen!$C$10,MATCH(D28,Accountsnames,0),0),"") -> 1990 | F28: 4606.69 | I28: Miele fact.58952
B29: =B27+1 -> 13 | C29: 44553 | D29: Crediteuren | E29: =IF($D29<>"",OFFSET(Grootboekrekeningen!$C$10,MATCH(D29,Accountsnames,0),0),"") -> 1600 | G29: 3886.25 | H29: KPN Telecom | I29: Audiac fact.56894
B30: =B28+1 -> 13 | C30: 44553 | D30: Vermogen begin jaar | E30: =IF($D30<>"",OFFSET(Grootboekrekeningen!$C$10,MATCH(D30,Accountsnames,0),0),"") -> 1990 | F30: 3886.25 | I30: Audiac fact.56894
B31: =B29+1 -> 14 | C31: 44562 | D31: OB 2020 kw.4 | E31: =IF($D31<>"",OFFSET(Grootboekrekeningen!$C$10,MATCH(D31,Accountsnames,0),0),"") -> 1650 | G31: 1410 | I31: OB 2020 kwartaal 4
B32: =B30+1 -> 14 | C32: 44562 | D32: Vermogen begin jaar | E32: =IF($D32<>"",OFFSET(Grootboekrekeningen!$C$10,MATCH(D32,Accountsnames,0),0),"") -> 1990 | F32: 1410 | I32: OB 2020 kwartaal 4
B33: =B31+1 -> 15 | C33: 44562 | D33: OB 2020 suppl. | E33: =IF($D33<>"",OFFSET(Grootboekrekeningen!$C$10,MATCH(D33,Accountsnames,0),0),"") -> 1651 | G33: 29 | I33: OB 2020 suppl.
B34: =B32+1 -> 15 | C34: 44562 | D34: Vermogen begin jaar | E34: =IF($D34<>"",OFFSET(Grootboekrekeningen!$C$10,MATCH(D34,Accountsnames,0),0),"") -> 1990 | F34: 29 | I34: OB 2020 suppl.
B35: =B33+1 -> 16 | C35: 44562 | D35: Lening bank | E35: =IF($D35<>"",OFFSET(Grootboekrekeningen!$C$10,MATCH(D35,Accountsnames,0),0),"") -> 1810 | G35: 51500 | I35: Saldo lening bank
B36: =B34+1 -> 16 | C36: 44562 | D36: Vermogen begin jaar | E36: =IF($D36<>"",OFFSET(Grootboekrekeningen!$C$10,MATCH(D36,Accountsnames,0),0),"") -> 1990 | F36: 51500 | I36: Saldo lening bank
B37: =B35+1 -> 17 | C37: 44562 | D37: Stand FOR begin boekjaar | E37: =IF($D37<>"",OFFSET(Grootboekrekeningen!$C$10,MATCH(D37,Accountsnames,0),0),"") -> 1980 | G37: 2300 | I37: Stand FOR begin boekjaar
B38: =B36+1 -> 17 | C38: 44562 | D38: Vermogen begin jaar | E38: =IF($D38<>"",OFFSET(Grootboekrekeningen!$C$10,MATCH(D38,Accountsnames,0),0),"") -> 1990 | F38: 2300 | I38: Stand FOR begin boekjaar
B39: =B37+1 -> 18 | C39: 44565 | D39: Gas | E39: =IF($D39<>"",OFFSET(Grootboekrekeningen!$C$10,MATCH(D39,Accountsnames,0),0),"") -> 4710 | F39: 123.97 | I39: Gas voorschot Januari
B40: =B38+1 -> 18 | C40: 44565 | D40: Bank | E40: =IF($D40<>"",OFFSET(Grootboekrekeningen!$C$10,MATCH(D40,Accountsnames,0),0),"") -> 1020 | G40: 123.97 | I40: Gas voorschot Januari
B41: =B39+1 -> 19 | C41: 44565 | D41: Btw hoog te verrekenen | E41: =IF($D41<>"",OFFSET(Grootboekrekeningen!$C$10,MATCH(D41,Accountsnames,0),0),"") -> 1703 | F41: 26.03 | I41: Gas voorschot Januari
...

Sheet Grootboek
B2: Grootboek
D3: Rekening | E3: Rekeningnummer
B4: Kies rekening > > > > > > | D4: Bank | E4: =IF($D4<>"",OFFSET(Grootboekrekeningen!$C$10,MATCH($D$4,Accountsnames,0),0),"") -> 1020 | H4: Verschil
E5: Totaal | F5: =SUM(F7:F500) -> 13789.51 | G5: =SUM(G7:G500) -> 10859.59 | H5: =F5-G5 -> 2929.92
A6: Naam | B6: Nr | C6: Datum | D6: Rekening | E6: Rekeningnummer | F6: Debet | G6: Credit | H6: Naam | I6: Omschrijving
A7: =MATCH($E$4,OFFSET(Journaal!$E$5,,,Journaal!$D$3),0) -> 11 | B7: =IF(ISERROR($A7)=TRUE,"",OFFSET(Journaal!B$4,$A7,0)) -> 6 | C7: =IF(ISERROR($A7)=TRUE,"",OFFSET(Journaal!C$4,$A7,0)+0) -> 44562 | D7: =IF(ISERROR($A7)=TRUE,"",OFFSET(Journaal!D$4,$A7,0)) -> Bank | E7: =IF(ISERROR($A7)=TRUE,"",OFFSET(Journaal!E$4,$A7,0)) -> 1020 | F7: =IF(ISERROR($A7)=TRUE,"",OFFSET(Journaal!F$4,$A7,0)) -> 5463 | G7: =IF(ISERROR($A7)=TRUE,"",OFFSET(Journaal!G$4,$A7,0)) -> 0 | H7: =IF(ISERROR($J7)=TRUE,"",IF(OR($E7=1300,$E7=1600),OFFSET(Journaal!H$4,$J7,0),"")) | I7: =IF(ISERROR($A7)=TRUE,"",IF(OFFSET(Journaal!I$4,$A7,0)=0,"",OFFSET(Journaal!I$4,$A7,0))) -> Bank begin boekjaar | J7: =MATCH($E$4,OFFSET(Journaal!$E$5,0,0,Journaal!$D$3,1),0) -> 11
A8: =MATCH($E$4,OFFSET(OFFSET(Journaal!$E$5,A7,0),,,Journaal!$D$3-A7),0)+A7 -> 36 | B8: =IF(ISERROR($A8)=TRUE,"",OFFSET(Journaal!B$4,$A8,0)) -> 18 | C8: =IF(ISERROR($A8)=TRUE,"",OFFSET(Journaal!C$4,$A8,0)+0) -> 44565 | D8: =IF(ISERROR($A8)=TRUE,"",OFFSET(Journaal!D$4,$A8,0)) -> Bank | E8: =IF(ISERROR($A8)=TRUE,"",OFFSET(Journaal!E$4,$A8,0)) -> 1020 | F8: =IF(ISERROR($A8)=TRUE,"",OFFSET(Journaal!F$4,$A8,0)) -> 0 | G8: =IF(ISERROR($A8)=TRUE,"",OFFSET(Journaal!G$4,$A8,0)) -> 123.97 | H8: =IF(ISERROR($J8)=TRUE,"",IF(OR($E8=1300,$E8=1600),OFFSET(Journaal!H$4,$J8,0),"")) | I8: =IF(ISERROR($A8)=TRUE,"",IF(OFFSET(Journaal!I$4,$A8,0)=0,"",OFFSET(Journaal!I$4,$A8,0))) -> Gas voorschot Januari | J8: =MATCH($E$4,OFFSET(Journaal!$E$5,J7,0,Journaal!$D$3,1),0)+J7 -> 36
A9: =MATCH($E$4,OFFSET(OFFSET(Journaal!$E$5,A8,0),,,Journaal!$D$3-A8),0)+A8 -> 38 | B9: =IF(ISERROR($A9)=TRUE,"",OFFSET(Journaal!B$4,$A9,0)) -> 19 | C9: =IF(ISERROR($A9)=TRUE,"",OFFSET(Journaal!C$4,$A9,0)+0) -> 44565 | D9: =IF(ISERROR($A9)=TRUE,"",OFFSET(Journaal!D$4,$A9,0)) -> Bank | E9: =IF(ISERROR($A9)=TRUE,"",OFFSET(Journaal!E$4,$A9,0)) -> 1020 | F9: =IF(ISERROR($A9)=TRUE,"",OFFSET(Journaal!F$4,$A9,0)) -> 0 | G9: =IF(ISERROR($A9)=TRUE,"",OFFSET(Journaal!G$4,$A9,0)) -> 26.03 | H9: =IF(ISERROR($J9)=TRUE,"",IF(OR($E9=1300,$E9=1600),OFFSET(Journaal!H$4,$J9,0),"")) | I9: =IF(ISERROR($A9)=TRUE,"",IF(OFFSET(Journaal!I$4,$A9,0)=0,"",OFFSET(Journaal!I$4,$A9,0))) -> Gas voorschot Januari | J9: =MATCH($E$4,OFFSET(Journaal!$E$5,J8,0,Journaal!$D$3,1),0)+J8 -> 38
A10: =MATCH($E$4,OFFSET(OFFSET(Journaal!$E$5,A9,0),,,Journaal!$D$3-A9),0)+A9 -> 40 | B10: =IF(ISERROR($A10)=TRUE,"",OFFSET(Journaal!B$4,$A10,0)) -> 20 | C10: =IF(ISERROR($A10)=TRUE,"",OFFSET(Journaal!C$4,$A10,0)+0) -> 44567 | D10: =IF(ISERROR($A10)=TRUE,"",OFFSET(Journaal!D$4,$A10,0)) -> Bank | E10: =IF(ISERROR($A10)=TRUE,"",OFFSET(Journaal!E$4,$A10,0)) -> 1020 | F10: =IF(ISERROR($A10)=TRUE,"",OFFSET(Journaal!F$4,$A10,0)) -> 0 | G10: =IF(ISERROR($A10)=TRUE,"",OFFSET(Journaal!G$4,$A10,0)) -> 45.36 | H10: =IF(ISERROR($J10)=TRUE,"",IF(OR($E10=1300,$E10=1600),OFFSET(Journaal!H$4,$J10,0),"")) | I10: =IF(ISERROR($A10)=TRUE,"",IF(OFFSET(Journaal!I$4,$A10,0)=0,"",OFFSET(Journaal!I$4,$A10,0))) -> Kosten betalingsverkeer | J10: =MATCH($E$4,OFFSET(Journaal!$E$5,J9,0,Journaal!$D$3,1),0)+J9 -> 40
A11: =MATCH($E$4,OFFSET(OFFSET(Journaal!$E$5,A10,0),,,Journaal!$D$3-A10),0)+A10 -> 42 | B11: =IF(ISERROR($A11)=TRUE,"",OFFSET(Journaal!B$4,$A11,0)) -> 21 | C11: =IF(ISERROR($A11)=TRUE,"",OFFSET(Journaal!C$4,$A11,0)+0) -> 44570 | D11: =IF(ISERROR($A11)=TRUE,"",OFFSET(Journaal!D$4,$A11,0)) -> Bank | E11: =IF(ISERROR($A11)=TRUE,"",OFFSET(Journaal!E$4,$A11,0)) -> 1020 | F11: =IF(ISERROR($A11)=TRUE,"",OFFSET(Journaal!F$4,$A11,0)) -> 0 | G11: =IF(ISERROR($A11)=TRUE,"",OFFSET(Journaal!G$4,$A11,0)) -> 500 | H11: =IF(ISERROR($J11)=TRUE,"",IF(OR($E11=1300,$E11=1600),OFFSET(Journaal!H$4,$J11,0),"")) | I11: =IF(ISERROR($A11)=TRUE,"",IF(OFFSET(Journaal!I$4,$A11,0)=0,"",OFFSET(Journaal!I$4,$A11,0))) -> Prive opname | J11: =MATCH($E$4,OFFSET(Journaal!$E$5,J10,0,Journaal!$D$3,1),0)+J10 -> 42
A12: =MATCH($E$4,OFFSET(OFFSET(Journaal!$E$5,A11,0),,,Journaal!$D$3-A11),0)+A11 -> 44 | B12: =IF(ISERROR($A12)=TRUE,"",OFFSET(Journaal!B$4,$A12,0)) -> 22 | C12: =IF(ISERROR($A12)=TRUE,"",OFFSET(Journaal!C$4,$A12,0)+0) -> 44572 | D12: =IF(ISERROR($A12)=TRUE,"",OFFSET(Journaal!D$4,$A12,0)) -> Bank | E12: =IF(ISERROR($A12)=TRUE,"",OFFSET(Journaal!E$4,$A12,0)) -> 1020 | F12: =IF(ISERROR($A12)=TRUE,"",OFFSET(Journaal!F$4,$A12,0)) -> 60.97 | G12: =IF(ISERROR($A12)=TRUE,"",OFFSET(Journaal!G$4,$A12,0)) -> 0 | H12: =IF(ISERROR($J12)=TRUE,"",IF(OR($E12=1300,$E12=1600),OFFSET(Journaal!H$4,$J12,0),"")) | I12: =IF(ISERROR($A12)=TRUE,"",IF(OFFSET(Journaal!I$4,$A12,0)=0,"",OFFSET(Journaal!I$4,$A12,0))) -> Order 2311 | J12: =MATCH($E$4,OFFSET(Journaal!$E$5,J11,0,Journaal!$D$3,1),0)+J11 -> 44
A13: =MATCH($E$4,OFFSET(OFFSET(Journaal!$E$5,A12,0),,,Journaal!$D$3-A12),0)+A12 -> 45 | B13: =IF(ISERROR($A13)=TRUE,"",OFFSET(Journaal!B$4,$A13,0)) -> 23 | C13: =IF(ISERROR($A13)=TRUE,"",OFFSET(Journaal!C$4,$A13,0)+0) -> 44574 | D13: =IF(ISERROR($A13)=TRUE,"",OFFSET(Journaal!D$4,$A13,0)) -> Bank | E13: =IF(ISERROR($A13)=TRUE,"",OFFSET(Journaal!E$4,$A13,0)) -> 1020 | F13: =IF(ISERROR($A13)=TRUE,"",OFFSET(Journaal!F$4,$A13,0)) -> 0 | G13: =IF(ISERROR($A13)=TRUE,"",OFFSET(Journaal!G$4,$A13,0)) -> 250 | H13: =IF(ISERROR($J13)=TRUE,"",IF(OR($E13=1300,$E13=1600),OFFSET(Journaal!H$4,$J13,0),"")) | I13: =IF(ISERROR($A13)=TRUE,"",IF(OFFSET(Journaal!I$4,$A13,0)=0,"",OFFSET(Journaal!I$4,$A13,0))) -> Vattenfall | J13: =MATCH($E$4,OFFSET(Journaal!$E$5,J12,0,Journaal!$D$3,1),0)+J12 -> 45
A14: =MATCH($E$4,OFFSET(OFFSET(Journaal!$E$5,A13,0),,,Journaal!$D$3-A13),0)+A13 -> 48 | B14: =IF(ISERROR($A14)=TRUE,"",OFFSET(Journaal!B$4,$A14,0)) -> 24 | C14: =IF(ISERROR($A14)=TRUE,"",OFFSET(Journaal!C$4,$A14,0)+0) -> 44577 | D14: =IF(ISERROR($A14)=TRUE,"",OFFSET(Journaal!D$4,$A14,0)) -> Bank | E14: =IF(ISERROR($A14)=TRUE,"",OFFSET(Journaal!E$4,$A14,0)) -> 1020 | F14: =IF(ISERROR($A14)=TRUE,"",OFFSET(Journaal!F$4,$A14,0)) -> 0 | G14: =IF(ISERROR($A14)=TRUE,"",OFFSET(Journaal!G$4,$A14,0)) -> 500 | H14: =IF(ISERROR($J14)=TRUE,"",IF(OR($E14=1300,$E14=1600),OFFSET(Journaal!H$4,$J14,0),"")) | I14: =IF(ISERROR($A14)=TRUE,"",IF(OFFSET(Journaal!I$4,$A14,0)=0,"",OFFSET(Journaal!I$4,$A14,0))) -> Prive opname | J14: =MATCH($E$4,OFFSET(Journaal!$E$5,J13,0,Journaal!$D$3,1),0)+J13 -> 48
A15: =MATCH($E$4,OFFSET(OFFSET(Journaal!$E$5,A14,0),,,Journaal!$D$3-A14),0)+A14 -> 50 | B15: =IF(ISERROR($A15)=TRUE,"",OFFSET(Journaal!B$4,$A15,0)) -> 25 | C15: =IF(ISERROR($A15)=TRUE,"",OFFSET(Journaal!C$4,$A15,0)+0) -> 44577 | D15: =IF(ISERROR($A15)=TRUE,"",OFFSET(Journaal!D$4,$A15,0)) -> Bank | E15: =IF(ISERROR($A15)=TRUE,"",OFFSET(Journaal!E$4,$A15,0)) -> 1020 | F15: =IF(ISERROR($A15)=TRUE,"",OFFSET(Journaal!F$4,$A15,0)) -> 0 | G15: =IF(ISERROR($A15)=TRUE,"",OFFSET(Journaal!G$4,$A15,0)) -> 150 | H15: =IF(ISERROR($J15)=TRUE,"",IF(OR($E15=1300,$E15=1600),OFFSET(Journaal!H$4,$J15,0),"")) | I15: =IF(ISERROR($A15)=TRUE,"",IF(OFFSET(Journaal!I$4,$A15,0)=0,"",OFFSET(Journaal!I$4,$A15,0))) -> Van bank naar kas | J15: =MATCH($E$4,OFFSET(Journaal!$E$5,J14,0,Journaal!$D$3,1),0)+J14 -> 50
A16: =MATCH($E$4,OFFSET(OFFSET(Journaal!$E$5,A15,0),,,Journaal!$D$3-A15),0)+A15 -> 52 | B16: =IF(ISERROR($A16)=TRUE,"",OFFSET(Journaal!B$4,$A16,0)) -> 26 | C16: =IF(ISERROR($A16)=TRUE,"",OFFSET(Journaal!C$4,$A16,0)+0) -> 44579 | D16: =IF(ISERROR($A16)=TRUE,"",OFFSET(Journaal!D$4,$A16,0)) -> Bank | E16: =IF(ISERROR($A16)=TRUE,"",OFFSET(Journaal!E$4,$A16,0)) -> 1020 | F16: =IF(ISERROR($A16)=TRUE,"",OFFSET(Journaal!F$4,$A16,0)) -> 5595.85 | G16: =IF(ISERROR($A16)=TRUE,"",OFFSET(Journaal!G$4,$A16,0)) -> 0 | H16: =IF(ISERROR($J16)=TRUE,"",IF(OR($E16=1300,$E16=1600),OFFSET(Journaal!H$4,$J16,0),"")) | I16: =IF(ISERROR($A16)=TRUE,"",IF(OFFSET(Journaal!I$4,$A16,0)=0,"",OFFSET(Journaal!I$4,$A16,0))) -> Order 2347 | J16: =MATCH($E$4,OFFSET(Journaal!$E$5,J15,0,Journaal!$D$3,1),0)+J15 -> 52
A17: =MATCH($E$4,OFFSET(OFFSET(Journaal!$E$5,A16,0),,,Journaal!$D$3-A16),0)+A16 -> 54 | B17: =IF(ISERROR($A17)=TRUE,"",OFFSET(Journaal!B$4,$A17,0)) -> 27 | C17: =IF(ISERROR($A17)=TRUE,"",OFFSET(Journaal!C$4,$A17,0)+0) -> 44579 | D17: =IF(ISERROR($A17)=TRUE,"",OFFSET(Journaal!D$4,$A17,0)) -> Bank | E17: =IF(ISERROR($A17)=TRUE,"",OFFSET(Journaal!E$4,$A17,0)) -> 1020 | F17: =IF(ISERROR($A17)=TRUE,"",OFFSET(Journaal!F$4,$A17,0)) -> 30.25 | G17: =IF(ISERROR($A17)=TRUE,"",OFFSET(Journaal!G$4,$A17,0)) -> 0 | H17: =IF(ISERROR($J17)=TRUE,"",IF(OR($E17=1300,$E17=1600),OFFSET(Journaal!H$4,$J17,0),"")) | I17: =IF(ISERROR($A17)=TRUE,"",IF(OFFSET(Journaal!I$4,$A17,0)=0,"",OFFSET(Journaal!I$4,$A17,0))) -> Order 2346 | J17: =MATCH($E$4,OFFSET(Journaal!$E$5,J16,0,Journaal!$D$3,1),0)+J16 -> 54
A18: =MATCH($E$4,OFFSET(OFFSET(Journaal!$E$5,A17,0),,,Journaal!$D$3-A17),0)+A17 -> 56 | B18: =IF(ISERROR($A18)=TRUE,"",OFFSET(Journaal!B$4,$A18,0)) -> 28 | C18: =IF(ISERROR($A18)=TRUE,"",OFFSET(Journaal!C$4,$A18,0)+0) -> 44580 | D18: =IF(ISERROR($A18)=TRUE,"",OFFSET(Journaal!D$4,$A18,0)) -> Bank | E18: =IF(ISERROR($A18)=TRUE,"",OFFSET(Journaal!E$4,$A18,0)) -> 1020 | F18: =IF(ISERROR($A18)=TRUE,"",OFFSET(Journaal!F$4,$A18,0)) -> 340.12 | G18: =IF(ISERROR($A18)=TRUE,"",OFFSET(Journaal!G$4,$A18,0)) -> 0 | H18: =IF(ISERROR($J18)=TRUE,"",IF(OR($E18=1300,$E18=1600),OFFSET(Journaal!H$4,$J18,0),"")) | I18: =IF(ISERROR($A18)=TRUE,"",IF(OFFSET(Journaal!I$4,$A18,0)=0,"",OFFSET(Journaal!I$4,$A18,0))) -> Order 2348 | J18: =MATCH($E$4,OFFSET(Journaal!$E$5,J17,0,Journaal!$D$3,1),0)+J17 -> 56
A19: =MATCH($E$4,OFFSET(OFFSET(Journaal!$E$5,A18,0),,,Journaal!$D$3-A18),0)+A18 -> 58 | B19: =IF(ISERROR($A19)=TRUE,"",OFFSET(Journaal!B$4,$A19,0)) -> 29 | C19: =IF(ISERROR($A19)=TRUE,"",OFFSET(Journaal!C$4,$A19,0)+0) -> 44580 | D19: =IF(ISERROR($A19)=TRUE,"",OFFSET(Journaal!D$4,$A19,0)) -> Bank | E19: =IF(ISERROR($A19)=TRUE,"",OFFSET(Journaal!E$4,$A19,0)) -> 1020 | F19: =IF(ISERROR($A19)=TRUE,"",OFFSET(Journaal!F$4,$A19,0)) -> 0 | G19: =IF(ISERROR($A19)=TRUE,"",OFFSET(Journaal!G$4,$A19,0)) -> 3000 | H19: =IF(ISERROR($J19)=TRUE,"",IF(OR($E19=1300,$E19=1600),OFFSET(Journaal!H$4,$J19,0),"")) | I19: =IF(ISERROR($A19)=TRUE,"",IF(OFFSET(Journaal!I$4,$A19,0)=0,"",OFFSET(Journaal!I$4,$A19,0))) -> Audiac bv fac. 5241 | J19: =MATCH($E$4,OFFSET(Journaal!$E$5,J18,0,Journaal!$D$3,1),0)+J18 -> 58
... A1000: =MATCH($E$4,OFFSET(OFFSET(Journaal!$E$5,A999,0),,,Journaal!$D$3-A999),0)+A999 -> #N/A | B1000: =IF(ISERROR($A1000)=TRUE,"",OFFSET(Journaal!B$4,$A1000,0)) | C1000: =IF(ISERROR($A1000)=TRUE,"",OFFSET(Journaal!C$4,$A1000,0)+0) | D1000: =IF(ISERROR($A1000)=TRUE,"",OFFSET(Journaal!D$4,$A1000,0)) | E1000: =IF(ISERROR($A1000)=TRUE,"",OFFSET(Journaal!E$4,$A1000,0)) | F1000: =IF(ISERROR($A1000)=TRUE,"",OFFSET(Journaal!F$4,$A1000,0)) | G1000: =IF(ISERROR($A1000)=TRUE,"",OFFSET(Journaal!G$4,$A1000,0)) | H1000: =IF(ISERROR($J1000)=TRUE,"",IF(OR($E1000=1300,$E1000=1600),OFFSET(Journaal!H$4,$J1000,0),"")) | I1000: =IF(ISERROR($A1000)=TRUE,"",IF(OFFSET(Journaal!I$4,$A1000,0)=0,"",OFFSET(Journaal!I$4,$A1000,0))) | J1000: =MATCH($E$4,OFFSET(Journaal!$E$5,J999,0,Journaal!$D$3,1),0)+J999 -> #N/A
A1001: =MATCH($E$4,OFFSET(OFFSET(Journaal!$E$5,A1000,0),,,Journaal!$D$3-A1000),0)+A1000 -> #N/A
A1002: =MATCH($E$4,OFFSET(OFFSET(Journaal!$E$5,A1001,0),,,Journaal!$D$3-A1001),0)+A1001 -> #N/A
A1003: =MATCH($E$4,OFFSET(OFFSET(Journaal!$E$5,A1002,0),,,Journaal!$D$3-A1002),0)+A1002 -> #N/A
A1004: =MATCH($E$4,OFFSET(OFFSET(Journaal!$E$5,A1003,0),,,Journaal!$D$3-A1003),0)+A1003 -> #N/A
A1005: =MATCH($E$4,OFFSET(OFFSET(Journaal!$E$5,A1004,0),,,Journaal!$D$3-A1004),0)+A1004 -> #N/A
A1006: =MATCH($E$4,OFFSET(OFFSET(Journaal!$E$5,A1005,0),,,Journaal!$D$3-A1005),0)+A1005 -> #N/A
A1007: =MATCH($E$4,OFFSET(OFFSET(Journaal!$E$5,A1006,0),,,Journaal!$D$3-A1006),0)+A1006 -> #N/A
A1008: =MATCH($E$4,OFFSET(OFFSET(Journaal!$E$5,A1007,0),,,Journaal!$D$3-A1007),0)+A1007 -> #N/A
A1009: =MATCH($E$4,OFFSET(OFFSET(Journaal!$E$5,A1008,0),,,Journaal!$D$3-A1008),0)+A1008 -> #N/A
A1010: =MATCH($E$4,OFFSET(OFFSET(Journaal!$E$5,A1009,0),,,Journaal!$D$3-A1009),0)+A1009 -> #N/A
A1011: =MATCH($E$4,OFFSET(OFFSET(Journaal!$E$5,A1010,0),,,Journaal!$D$3-A1010),0)+A1010 -> #N/A
A1012: =MATCH($E$4,OFFSET(OFFSET(Journaal!$E$5,A1011,0),,,Journaal!$D$3-A1011),0)+A1011 -> #N/A
... A65536: =MATCH($E$4,OFFSET(OFFSET(Journaal!$E$5,A65535,0),,,Journaal!$D$3-A65535),0)+A65535 -> #N/A

Sheet Winst-en-Verlies
D1: Winst- en Verliesrekening | G1: Totaal | I1: =SUM(I4:I62) -> 345.66 | J1: =SUM(J4:J62) -> 0
A2: Kosten | B2: Opbrengsten | J2: =I65-J65 -> 345.66 | K2: =IF(J2>=I2,"Winst :o)","Verlies :o(") -> Winst :o)
D3: Rekening | E3: Rekeningnummer | F3: Debet | G3: Credit | I3: Debet | J3: Credit
A4: =MATCH(A$2,AccountsGroup,0) -> 27 | B4: =MATCH(B$2,AccountsGroup,0) -> 87 | C4: =MIN(MATCH($A$2,AccountsGroup,0),MATCH($B$2,AccountsGroup,0)) -> 27 | D4: =IF(OFFSET(Accountsnames,C4-1,0,1,1)=0,"",OFFSET(Accountsnames,C4-1,0,1,1)) -> Loonkosten | E4: =IF(OFFSET(AccountsNumbers,C4-1,0,1,1)=0,"",OFFSET(AccountsNumbers,C4-1,0,1,1)) -> 4100 | F4: =SUMPRODUCT((Journaal!$E$5:$E$500=$E4)*(Journaal!$F$5:$F$500)) -> 0 | G4: =SUMPRODUCT((Journaal!$E$5:$E$500=$E4)*(Journaal!$G$5:$G$500)) -> 0 | I4: =IF(F4-G4>0,F4-G4,0) -> 0 | J4: =IF(G4-F4>0,G4-F4,0) -> 0
A5: =IF(ISERROR(MATCH(A$2,OFFSET(AccountsGroup,$C4,0),0))=TRUE,ROWS(AccountsGroup),MATCH(A$2,OFFSET(AccountsGroup,$C4,0),0)) -> 1 | B5: =IF(ISERROR(MATCH(B$2,OFFSET(AccountsGroup,$C4,0),0))=TRUE,ROWS(AccountsGroup),MATCH(B$2,OFFSET(AccountsGroup,$C4,0),0)) -> 60 | C5: =MIN(A5,B5)+C4 -> 28 | D5: =IF(OFFSET(Accountsnames,C5-1,0,1,1)=0,"",OFFSET(Accountsnames,C5-1,0,1,1)) -> Gereedschapskosten | E5: =IF(OFFSET(AccountsNumbers,C5-1,0,1,1)=0,"",OFFSET(AccountsNumbers,C5-1,0,1,1)) -> 4200 | F5: =SUMPRODUCT((Journaal!$E$5:$E$500=$E5)*(Journaal!$F$5:$F$500)) -> 0 | G5: =SUMPRODUCT((Journaal!$E$5:$E$500=$E5)*(Journaal!$G$5:$G$500)) -> 0 | I5: =IF(F5-G5>0,F5-G5,0) -> 0 | J5: =IF(G5-F5>0,G5-F5,0) -> 0
A6: =IF(ISERROR(MATCH(A$2,OFFSET(AccountsGroup,$C5,0),0))=TRUE,ROWS(AccountsGroup),MATCH(A$2,OFFSET(AccountsGroup,$C5,0),0)) -> 1 | B6: =IF(ISERROR(MATCH(B$2,OFFSET(AccountsGroup,$C5,0),0))=TRUE,ROWS(AccountsGroup),MATCH(B$2,OFFSET(AccountsGroup,$C5,0),0)) -> 59 | C6: =MIN(A6,B6)+C5 -> 29 | D6: =IF(OFFSET(Accountsnames,C6-1,0,1,1)=0,"",OFFSET(Accountsnames,C6-1,0,1,1)) -> Auto onderhoud | E6: =IF(OFFSET(AccountsNumbers,C6-1,0,1,1)=0,"",OFFSET(AccountsNumbers,C6-1,0,1,1)) -> 4230 | F6: =SUMPRODUCT((Journaal!$E$5:$E$500=$E6)*(Journaal!$F$5:$F$500)) -> 0 | G6: =SUMPRODUCT((Journaal!$E$5:$E$500=$E6)*(Journaal!$G$5:$G$500)) -> 0 | I6: =IF(F6-G6>0,F6-G6,0) -> 0 | J6: =IF(G6-F6>0,G6-F6,0) -> 0
A7: =IF(ISERROR(MATCH(A$2,OFFSET(AccountsGroup,$C6,0),0))=TRUE,ROWS(AccountsGroup),MATCH(A$2,OFFSET(AccountsGroup,$C6,0),0)) -> 1 | B7: =IF(ISERROR(MATCH(B$2,OFFSET(AccountsGroup,$C6,0),0))=TRUE,ROWS(AccountsGroup),MATCH(B$2,OFFSET(AccountsGroup,$C6,0),0)) -> 58 | C7: =MIN(A7,B7)+C6 -> 30 | D7: =IF(OFFSET(Accountsnames,C7-1,0,1,1)=0,"",OFFSET(Accountsnames,C7-1,0,1,1)) -> Auto brandstof | E7: =IF(OFFSET(AccountsNumbers,C7-1,0,1,1)=0,"",OFFSET(AccountsNumbers,C7-1,0,1,1)) -> 4231 | F7: =SUMPRODUCT((Journaal!$E$5:$E$500=$E7)*(Journaal!$F$5:$F$500)) -> 0 | G7: =SUMPRODUCT((Journaal!$E$5:$E$500=$E7)*(Journaal!$G$5:$G$500)) -> 0 | I7: =IF(F7-G7>0,F7-G7,0) -> 0 | J7: =IF(G7-F7>0,G7-F7,0) -> 0
A8: =IF(ISERROR(MATCH(A$2,OFFSET(AccountsGroup,$C7,0),0))=TRUE,ROWS(AccountsGroup),MATCH(A$2,OFFSET(AccountsGroup,$C7,0),0)) -> 1 | B8: =IF(ISERROR(MATCH(B$2,OFFSET(AccountsGroup,$C7,0),0))=TRUE,ROWS(AccountsGroup),MATCH(B$2,OFFSET(AccountsGroup,$C7,0),0)) -> 57 | C8: =MIN(A8,B8)+C7 -> 31 | D8: =IF(OFFSET(Accountsnames,C8-1,0,1,1)=0,"",OFFSET(Accountsnames,C8-1,0,1,1)) -> Auto verzekering | E8: =IF(OFFSET(AccountsNumbers,C8-1,0,1,1)=0,"",OFFSET(AccountsNumbers,C8-1,0,1,1)) -> 4232 | F8: =SUMPRODUCT((Journaal!$E$5:$E$500=$E8)*(Journaal!$F$5:$F$500)) -> 0 | G8: =SUMPRODUCT((Journaal!$E$5:$E$500=$E8)*(Journaal!$G$5:$G$500)) -> 0 | I8: =IF(F8-G8>0,F8-G8,0) -> 0 | J8: =IF(G8-F8>0,G8-F8,0) -> 0
A9: =IF(ISERROR(MATCH(A$2,OFFSET(AccountsGroup,$C8,0),0))=TRUE,ROWS(AccountsGroup),MATCH(A$2,OFFSET(AccountsGroup,$C8,0),0)) -> 1 | B9: =IF(ISERROR(MATCH(B$2,OFFSET(AccountsGroup,$C8,0),0))=TRUE,ROWS(AccountsGroup),MATCH(B$2,OFFSET(AccountsGroup,$C8,0),0)) -> 56 | C9: =MIN(A9,B9)+C8 -> 32 | D9: =IF(OFFSET(Accountsnames,C9-1,0,1,1)=0,"",OFFSET(Accountsnames,C9-1,0,1,1)) -> Auto belasting | E9: =IF(OFFSET(AccountsNumbers,C9-1,0,1,1)=0,"",OFFSET(AccountsNumbers,C9-1,0,1,1)) -> 4233 | F9: =SUMPRODUCT((Journaal!$E$5:$E$500=$E9)*(Journaal!$F$5:$F$500)) -> 0 | G9: =SUMPRODUCT((Journaal!$E$5:$E$500=$E9)*(Journaal!$G$5:$G$500)) -> 0 | I9: =IF(F9-G9>0,F9-G9,0) -> 0 | J9: =IF(G9-F9>0,G9-F9,0) -> 0
A10: =IF(ISERROR(MATCH(A$2,OFFSET(AccountsGroup,$C9,0),0))=TRUE,ROWS(AccountsGroup),MATCH(A$2,OFFSET(AccountsGroup,$C9,0),0)) -> 1 | B10: =IF(ISERROR(MATCH(B$2,OFFSET(AccountsGroup,$C9,0),0))=TRUE,ROWS(AccountsGroup),MATCH(B$2,OFFSET(AccountsGroup,$C9,0),0)) -> 55 | C10: =MIN(A10,B10)+C9 -> 33 | D10: =IF(OFFSET(Accountsnames,C10-1,0,1,1)=0,"",OFFSET(Accountsnames,C10-1,0,1,1)) -> Auto overige kosten | E10: =IF(OFFSET(AccountsNumbers,C10-1,0,1,1)=0,"",OFFSET(AccountsNumbers,C10-1,0,1,1)) -> 4235 | F10: =SUMPRODUCT((Journaal!$E$5:$E$500=$E10)*(Journaal!$F$5:$F$500)) -> 0 | G10: =SUMPRODUCT((Journaal!$E$5:$E$500=$E10)*(Journaal!$G$5:$G$500)) -> 0 | I10: =IF(F10-G10>0,F10-G10,0) -> 0 | J10: =IF(G10-F10>0,G10-F10,0) -> 0
A11: =IF(ISERROR(MATCH(A$2,OFFSET(AccountsGroup,$C10,0),0))=TRUE,ROWS(AccountsGroup),MATCH(A$2,OFFSET(AccountsGroup,$C10,0),0)) -> 1 | B11: =IF(ISERROR(MATCH(B$2,OFFSET(AccountsGroup,$C10,0),0))=TRUE,ROWS(AccountsGroup),MATCH(B$2,OFFSET(AccountsGroup,$C10,0),0)) -> 54 | C11: =MIN(A11,B11)+C10 -> 34 | D11: =IF(OFFSET(Accountsnames,C11-1,0,1,1)=0,"",OFFSET(Accountsnames,C11-1,0,1,1)) -> Auto afschrijving | E11: =IF(OFFSET(AccountsNumbers,C11-1,0,1,1)=0,"",OFFSET(AccountsNumbers,C11-1,0,1,1)) -> 4237 | F11: =SUMPRODUCT((Journaal!$E$5:$E$500=$E11)*(Journaal!$F$5:$F$500)) -> 0 | G11: =SUMPRODUCT((Journaal!$E$5:$E$500=$E11)*(Journaal!$G$5:$G$500)) -> 0 | I11: =IF(F11-G11>0,F11-G11,0) -> 0 | J11: =IF(G11-F11>0,G11-F11,0) -> 0
A12: =IF(ISERROR(MATCH(A$2,OFFSET(AccountsGroup,$C11,0),0))=TRUE,ROWS(AccountsGroup),MATCH(A$2,OFFSET(AccountsGroup,$C11,0),0)) -> 1 | B12: =IF(ISERROR(MATCH(B$2,OFFSET(AccountsGroup,$C11,0),0))=TRUE,ROWS(AccountsGroup),MATCH(B$2,OFFSET(AccountsGroup,$C11,0),0)) -> 53 | C12: =MIN(A12,B12)+C11 -> 35 | D12: =IF(OFFSET(Accountsnames,C12-1,0,1,1)=0,"",OFFSET(Accountsnames,C12-1,0,1,1)) -> Af: auto bijtelling | E12: =IF(OFFSET(AccountsNumbers,C12-1,0,1,1)=0,"",OFFSET(AccountsNumbers,C12-1,0,1,1)) -> 4238 | F12: =SUMPRODUCT((Journaal!$E$5:$E$500=$E12)*(Journaal!$F$5:$F$500)) -> 0 | G12: =SUMPRODUCT((Journaal!$E$5:$E$500=$E12)*(Journaal!$G$5:$G$500)) -> 0 | I12: =IF(F12-G12>0,F12-G12,0) -> 0 | J12: =IF(G12-F12>0,G12-F12,0) -> 0
A13: =IF(ISERROR(MATCH(A$2,OFFSET(AccountsGroup,$C12,0),0))=TRUE,ROWS(AccountsGroup),MATCH(A$2,OFFSET(AccountsGroup,$C12,0),0)) -> 1 | B13: =IF(ISERROR(MATCH(B$2,OFFSET(AccountsGroup,$C12,0),0))=TRUE,ROWS(AccountsGroup),MATCH(B$2,OFFSET(AccountsGroup,$C12,0),0)) -> 52 | C13: =MIN(A13,B13)+C12 -> 36 | D13: =IF(OFFSET(Accountsnames,C13-1,0,1,1)=0,"",OFFSET(Accountsnames,C13-1,0,1,1)) -> Corr.wegens maximalisatie bijt | E13: =IF(OFFSET(AccountsNumbers,C13-1,0,1,1)=0,"",OFFSET(AccountsNumbers,C13-1,0,1,1)) -> 4239 | F13: =SUMPRODUCT((Journaal!$E$5:$E$500=$E13)*(Journaal!$F$5:$F$500)) -> 0 | G13: =SUMPRODUCT((Journaal!$E$5:$E$500=$E13)*(Journaal!$G$5:$G$500)) -> 0 | I13: =IF(F13-G13>0,F13-G13,0) -> 0 | J13: =IF(G13-F13>0,G13-F13,0) -> 0
A14: =IF(ISERROR(MATCH(A$2,OFFSET(AccountsGroup,$C13,0),0))=TRUE,ROWS(AccountsGroup),MATCH(A$2,OFFSET(AccountsGroup,$C13,0),0)) -> 1 | B14: =IF(ISERROR(MATCH(B$2,OFFSET(AccountsGroup,$C13,0),0))=TRUE,ROWS(AccountsGroup),MATCH(B$2,OFFSET(AccountsGroup,$C13,0),0)) -> 51 | C14: =MIN(A14,B14)+C13 -> 37 | D14: =IF(OFFSET(Accountsnames,C14-1,0,1,1)=0,"",OFFSET(Accountsnames,C14-1,0,1,1)) -> Kantoor kosten | E14: =IF(OFFSET(AccountsNumbers,C14-1,0,1,1)=0,"",OFFSET(AccountsNumbers,C14-1,0,1,1)) -> 4300 | F14: =SUMPRODUCT((Journaal!$E$5:$E$500=$E14)*(Journaal!$F$5:$F$500)) -> 0 | G14: =SUMPRODUCT((Journaal!$E$5:$E$500=$E14)*(Journaal!$G$5:$G$500)) -> 0 | I14: =IF(F14-G14>0,F14-G14,0) -> 0 | J14: =IF(G14-F14>0,G14-F14,0) -> 0
A15: =IF(ISERROR(MATCH(A$2,OFFSET(AccountsGroup,$C14,0),0))=TRUE,ROWS(AccountsGroup),MATCH(A$2,OFFSET(AccountsGroup,$C14,0),0)) -> 1 | B15: =IF(ISERROR(MATCH(B$2,OFFSET(AccountsGroup,$C14,0),0))=TRUE,ROWS(AccountsGroup),MATCH(B$2,OFFSET(AccountsGroup,$C14,0),0)) -> 50 | C15: =MIN(A15,B15)+C14 -> 38 | D15: =IF(OFFSET(Accountsnames,C15-1,0,1,1)=0,"",OFFSET(Accountsnames,C15-1,0,1,1)) -> Portokosten | E15: =IF(OFFSET(AccountsNumbers,C15-1,0,1,1)=0,"",OFFSET(AccountsNumbers,C15-1,0,1,1)) -> 4310 | F15: =SUMPRODUCT((Journaal!$E$5:$E$500=$E15)*(Journaal!$F$5:$F$500)) -> 0 | G15: =SUMPRODUCT((Journaal!$E$5:$E$500=$E15)*(Journaal!$G$5:$G$500)) -> 0 | I15: =IF(F15-G15>0,F15-G15,0) -> 0 | J15: =IF(G15-F15>0,G15-F15,0) -> 0
A16: =IF(ISERROR(MATCH(A$2,OFFSET(AccountsGroup,$C15,0),0))=TRUE,ROWS(AccountsGroup),MATCH(A$2,OFFSET(AccountsGroup,$C15,0),0)) -> 1 | B16: =IF(ISERROR(MATCH(B$2,OFFSET(AccountsGroup,$C15,0),0))=TRUE,ROWS(AccountsGroup),MATCH(B$2,OFFSET(AccountsGroup,$C15,0),0)) -> 49 | C16: =MIN(A16,B16)+C15 -> 39 | D16: =IF(OFFSET(Accountsnames,C16-1,0,1,1)=0,"",OFFSET(Accountsnames,C16-1,0,1,1)) -> Advertentiekosten | E16: =IF(OFFSET(AccountsNumbers,C16-1,0,1,1)=0,"",OFFSET(AccountsNumbers,C16-1,0,1,1)) -> 4340 | F16: =SUMPRODUCT((Journaal!$E$5:$E$500=$E16)*(Journaal!$F$5:$F$500)) -> 0 | G16: =SUMPRODUCT((Journaal!$E$5:$E$500=$E16)*(Journaal!$G$5:$G$500)) -> 0 | I16: =IF(F16-G16>0,F16-G16,0) -> 0 | J16: =IF(G16-F16>0,G16-F16,0) -> 0
... A62: =IF(ISERROR(MATCH(A$2,OFFSET(AccountsGroup,$C61,0),0))=TRUE,ROWS(AccountsGroup),MATCH(A$2,OFFSET(AccountsGroup,$C61,0),0)) -> 1 | B62: =IF(ISERROR(MATCH(B$2,OFFSET(AccountsGroup,$C61,0),0))=TRUE,ROWS(AccountsGroup),MATCH(B$2,OFFSET(AccountsGroup,$C61,0),0)) -> 111 | C62: =MIN(A62,B62)+C61 -> 110 | D62: =IF(OFFSET(Accountsnames,C62-1,0,1,1)=0,"",OFFSET(Accountsnames,C62-1,0,1,1)) -> Af: corr.wegens maximalisatie | E62: =IF(OFFSET(AccountsNumbers,C62-1,0,1,1)=0,"",OFFSET(AccountsNumbers,C62-1,0,1,1)) -> 9761 | F62: =SUMPRODUCT((Journaal!$E$5:$E$500=$E62)*(Journaal!$F$5:$F$500)) -> 0 | G62: =SUMPRODUCT((Journaal!$E$5:$E$500=$E62)*(Journaal!$G$5:$G$500)) -> 0 | I62: =IF(F62-G62>0,F62-G62,0) -> 0 | J62: =IF(G62-F62>0,G62-F62,0) -> 0
D64: =IF(J65>=I65,"Verlies :o)","Winst :o(") -> Winst :o( | I64: =IF(G65-F65>0,G65-F65,0) -> 0 | J64: =I65-J65 -> 345.66
D65: Totals | I65: =SUM(I4:I62) -> 345.66 | J65: =SUM(J4:J62) -> 0

Sheet Balans
B2: Openings Balans
D3: Debet | E3: Credit | G3: Debet | K3: Debet | L3: Credit | N3: Credit
B4: Materiële Bezittingen | C4: Rekeningnummer | I4: Vermogen | J4: Rekeningnummer
A5: =IF(ISERROR(MATCH($B$4,OFFSET(AccountsGroup,A4,0),0))=TRUE,ROWS(AccountsGroup),MATCH($B$4,OFFSET(AccountsGroup,A4,0),0))+A4 -> 1 | B5: =IF(OFFSET(Accountsnames,A5-1,0,1,1)=0,"",OFFSET(Accountsnames,A5-1,0,1,1)) -> Grond en terrein | C5: =IF(OFFSET(AccountsNumbers,A5-1,0,1,1)=0,"",OFFSET(AccountsNumbers,A5-1,0,1,1)) -> 100 | G5: =IF($B5<>"",D5-E5,"") -> 0 | H5: =IF(ISERROR(MATCH($I$4,OFFSET(AccountsGroup,H4,0),0))=TRUE,ROWS(AccountsGroup),MATCH($I$4,OFFSET(AccountsGroup,H4,0),0))+H4 -> 25 | I5: =IF(OFFSET(Accountsnames,H5-1,0,1,1)=0,"",OFFSET(Accountsnames,H5-1,0,1,1)) -> Stand FOR begin boekjaar | J5: =IF(OFFSET(AccountsNumbers,H5-1,0,1,1)=0,"",OFFSET(AccountsNumbers,H5-1,0,1,1)) -> 1980 | N5: =IF($I5<>"",K5-L5,"") -> 0
A6: =IF(ISERROR(MATCH($B$4,OFFSET(AccountsGroup,A5,0),0))=TRUE,ROWS(AccountsGroup),MATCH($B$4,OFFSET(AccountsGroup,A5,0),0))+A5 -> 2 | B6: =IF(OFFSET(Accountsnames,A6-1,0,1,1)=0,"",OFFSET(Accountsnames,A6-1,0,1,1)) -> Gebouwen | C6: =IF(OFFSET(AccountsNumbers,A6-1,0,1,1)=0,"",OFFSET(AccountsNumbers,A6-1,0,1,1)) -> 200 | G6: =IF($B6<>"",D6-E6,"") -> 0 | H6: =IF(ISERROR(MATCH($I$4,OFFSET(AccountsGroup,H5,0),0))=TRUE,ROWS(AccountsGroup),MATCH($I$4,OFFSET(AccountsGroup,H5,0),0))+H5 -> 26 | I6: =IF(OFFSET(Accountsnames,H6-1,0,1,1)=0,"",OFFSET(Accountsnames,H6-1,0,1,1)) -> Vermogen begin jaar | J6: =IF(OFFSET(AccountsNumbers,H6-1,0,1,1)=0,"",OFFSET(AccountsNumbers,H6-1,0,1,1)) -> 1990 | N6: =$G$32-SUM(N14:N27,N5) -> 0
A7: =IF(ISERROR(MATCH($B$4,OFFSET(AccountsGroup,A6,0),0))=TRUE,ROWS(AccountsGroup),MATCH($B$4,OFFSET(AccountsGroup,A6,0),0))+A6 -> 3 | B7: =IF(OFFSET(Accountsnames,A7-1,0,1,1)=0,"",OFFSET(Accountsnames,A7-1,0,1,1)) -> Inventaris | C7: =IF(OFFSET(AccountsNumbers,A7-1,0,1,1)=0,"",OFFSET(AccountsNumbers,A7-1,0,1,1)) -> 300 | G7: =IF($B7<>"",D7-E7,"") -> 0 | H7: =IF(ISERROR(MATCH($I$4,OFFSET(AccountsGroup,H6,0),0))=TRUE,ROWS(AccountsGroup),MATCH($I$4,OFFSET(AccountsGroup,H6,0),0))+H6 -> 137 | I7: =IF(OFFSET(Accountsnames,H7-1,0,1,1)=0,"",OFFSET(Accountsnames,H7-1,0,1,1)) | J7: =IF(OFFSET(AccountsNumbers,H7-1,0,1,1)=0,"",OFFSET(AccountsNumbers,H7-1,0,1,1))
A8: =IF(ISERROR(MATCH($B$4,OFFSET(AccountsGroup,A7,0),0))=TRUE,ROWS(AccountsGroup),MATCH($B$4,OFFSET(AccountsGroup,A7,0),0))+A7 -> 4 | B8: =IF(OFFSET(Accountsnames,A8-1,0,1,1)=0,"",OFFSET(Accountsnames,A8-1,0,1,1)) -> Voorraden | C8: =IF(OFFSET(AccountsNumbers,A8-1,0,1,1)=0,"",OFFSET(AccountsNumbers,A8-1,0,1,1)) -> 500 | G8: =IF($B8<>"",D8-E8,"") -> 0 | H8: =IF(ISERROR(MATCH($I$4,OFFSET(AccountsGroup,H7,0),0))=TRUE,ROWS(AccountsGroup),MATCH($I$4,OFFSET(AccountsGroup,H7,0),0))+H7 -> 248 | I8: =IF(OFFSET(Accountsnames,H8-1,0,1,1)=0,"",OFFSET(Accountsnames,H8-1,0,1,1)) | J8: =IF(OFFSET(AccountsNumbers,H8-1,0,1,1)=0,"",OFFSET(AccountsNumbers,H8-1,0,1,1))
A9: =IF(ISERROR(MATCH($B$4,OFFSET(AccountsGroup,A8,0),0))=TRUE,ROWS(AccountsGroup),MATCH($B$4,OFFSET(AccountsGroup,A8,0),0))+A8 -> 5 | B9: =IF(OFFSET(Accountsnames,A9-1,0,1,1)=0,"",OFFSET(Accountsnames,A9-1,0,1,1)) -> Voertuigen | C9: =IF(OFFSET(AccountsNumbers,A9-1,0,1,1)=0,"",OFFSET(AccountsNumbers,A9-1,0,1,1)) -> 800 | G9: =IF($B9<>"",D9-E9,"") -> 0 | H9: =IF(ISERROR(MATCH($I$4,OFFSET(AccountsGroup,H8,0),0))=TRUE,ROWS(AccountsGroup),MATCH($I$4,OFFSET(AccountsGroup,H8,0),0))+H8 -> 359 | I9: =IF(OFFSET(Accountsnames,H9-1,0,1,1)=0,"",OFFSET(Accountsnames,H9-1,0,1,1)) | J9: =IF(OFFSET(AccountsNumbers,H9-1,0,1,1)=0,"",OFFSET(AccountsNumbers,H9-1,0,1,1))
A10: =IF(ISERROR(MATCH($B$4,OFFSET(AccountsGroup,A9,0),0))=TRUE,ROWS(AccountsGroup),MATCH($B$4,OFFSET(AccountsGroup,A9,0),0))+A9 -> 116 | B10: =IF(OFFSET(Accountsnames,A10-1,0,1,1)=0,"",OFFSET(Accountsnames,A10-1,0,1,1)) | C10: =IF(OFFSET(AccountsNumbers,A10-1,0,1,1)=0,"",OFFSET(AccountsNumbers,A10-1,0,1,1)) | G10: =IF($B10<>"",D10-E10,"") | H10: =IF(ISERROR(MATCH($I$4,OFFSET(AccountsGroup,H9,0),0))=TRUE,ROWS(AccountsGroup),MATCH($I$4,OFFSET(AccountsGroup,H9,0),0))+H9 -> 470 | I10: =IF(OFFSET(Accountsnames,H10-1,0,1,1)=0,"",OFFSET(Accountsnames,H10-1,0,1,1)) | J10: =IF(OFFSET(AccountsNumbers,H10-1,0,1,1)=0,"",OFFSET(AccountsNumbers,H10-1,0,1,1))
A11: =IF(ISERROR(MATCH($B$4,OFFSET(AccountsGroup,A10,0),0))=TRUE,ROWS(AccountsGroup),MATCH($B$4,OFFSET(AccountsGroup,A10,0),0))+A10 -> 227 | B11: =IF(OFFSET(Accountsnames,A11-1,0,1,1)=0,"",OFFSET(Accountsnames,A11-1,0,1,1)) | C11: =IF(OFFSET(AccountsNumbers,A11-1,0,1,1)=0,"",OFFSET(AccountsNumbers,A11-1,0,1,1)) | G11: =IF($B11<>"",D11-E11,"") | H11: =IF(ISERROR(MATCH($I$4,OFFSET(AccountsGroup,H10,0),0))=TRUE,ROWS(AccountsGroup),MATCH($I$4,OFFSET(AccountsGroup,H10,0),0))+H10 -> 581 | I11: =IF(OFFSET(Accountsnames,H11-1,0,1,1)=0,"",OFFSET(Accountsnames,H11-1,0,1,1)) | J11: =IF(OFFSET(AccountsNumbers,H11-1,0,1,1)=0,"",OFFSET(AccountsNumbers,H11-1,0,1,1))
G12: =IF($B12<>"",D12-E12,"")
B13: Financiële Bezittingen | C13: Rekeningnummer | I13: Schulden | J13: Rekeningnummer
A14: =IF(ISERROR(MATCH($B$13,OFFSET(AccountsGroup,A13,0),0))=TRUE,ROWS(AccountsGroup),MATCH($B$13,OFFSET(AccountsGroup,A13,0),0))+A13 -> 6 | B14: =IF(OFFSET(Accountsnames,A14-1,0,1,1)=0,"",OFFSET(Accountsnames,A14-1,0,1,1)) -> Kas | C14: =IF(OFFSET(AccountsNumbers,A14-1,0,1,1)=0,"",OFFSET(AccountsNumbers,A14-1,0,1,1)) -> 1000 | G14: =IF($B14<>"",D14-E14,"") -> 0 | H14: =IF(ISERROR(MATCH($I$13,OFFSET(AccountsGroup,H13,0),0))=TRUE,ROWS(AccountsGroup),MATCH($I$13,OFFSET(AccountsGroup,H13,0),0))+H13 -> 11 | I14: =IF(OFFSET(Accountsnames,H14-1,0,1,1)=0,"",OFFSET(Accountsnames,H14-1,0,1,1)) -> Crediteuren | J14: =IF(OFFSET(AccountsNumbers,H14-1,0,1,1)=0,"",OFFSET(AccountsNumbers,H14-1,0,1,1)) -> 1600 | N14: =IF($I14<>"",L14-K14,"") -> 0
A15: =IF(ISERROR(MATCH($B$13,OFFSET(AccountsGroup,A14,0),0))=TRUE,ROWS(AccountsGroup),MATCH($B$13,OFFSET(AccountsGroup,A14,0),0))+A14 -> 7 | B15: =IF(OFFSET(Accountsnames,A15-1,0,1,1)=0,"",OFFSET(Accountsnames,A15-1,0,1,1)) -> Bank | C15: =IF(OFFSET(AccountsNumbers,A15-1,0,1,1)=0,"",OFFSET(AccountsNumbers,A15-1,0,1,1)) -> 1020 | G15: =IF($B15<>"",D15-E15,"") -> 0 | H15: =IF(ISERROR(MATCH($I$13,OFFSET(AccountsGroup,H14,0),0))=TRUE,ROWS(AccountsGroup),MATCH($I$13,OFFSET(AccountsGroup,H14,0),0))+H14 -> 12 | I15: =IF(OFFSET(Accountsnames,H15-1,0,1,1)=0,"",OFFSET(Accountsnames,H15-1,0,1,1)) -> Nog te ontv.facturen (te beta) | J15: =IF(OFFSET(AccountsNumbers,H15-1,0,1,1)=0,"",OFFSET(AccountsNumbers,H15-1,0,1,1)) -> 1610 | N15: =IF($I15<>"",L15-K15,"") -> 0
A16: =IF(ISERROR(MATCH($B$13,OFFSET(AccountsGroup,A15,0),0))=TRUE,ROWS(AccountsGroup),MATCH($B$13,OFFSET(AccountsGroup,A15,0),0))+A15 -> 8 | B16: =IF(OFFSET(Accountsnames,A16-1,0,1,1)=0,"",OFFSET(Accountsnames,A16-1,0,1,1)) -> Creditcard | C16: =IF(OFFSET(AccountsNumbers,A16-1,0,1,1)=0,"",OFFSET(AccountsNumbers,A16-1,0,1,1)) -> 1030 | G16: =IF($B16<>"",D16-E16,"") -> 0 | H16: =IF(ISERROR(MATCH($I$13,OFFSET(AccountsGroup,H15,0),0))=TRUE,ROWS(AccountsGroup),MATCH($I$13,OFFSET(AccountsGroup,H15,0),0))+H15 -> 13 | I16: =IF(OFFSET(Accountsnames,H16-1,0,1,1)=0,"",OFFSET(Accountsnames,H16-1,0,1,1)) -> Rek.courant (roodstand) | J16: =IF(OFFSET(AccountsNumbers,H16-1,0,1,1)=0,"",OFFSET(AccountsNumbers,H16-1,0,1,1)) -> 1620 | N16: =IF($I16<>"",L16-K16,"") -> 0
A17: =IF(ISERROR(MATCH($B$13,OFFSET(AccountsGroup,A16,0),0))=TRUE,ROWS(AccountsGroup),MATCH($B$13,OFFSET(AccountsGroup,A16,0),0))+A16 -> 9 | B17: =IF(OFFSET(Accountsnames,A17-1,0,1,1)=0,"",OFFSET(Accountsnames,A17-1,0,1,1)) -> Kruisposten | C17: =IF(OFFSET(AccountsNumbers,A17-1,0,1,1)=0,"",OFFSET(AccountsNumbers,A17-1,0,1,1)) -> 1090 | G17: =IF($B17<>"",D17-E17,"") -> 0 | H17: =IF(ISERROR(MATCH($I$13,OFFSET(AccountsGroup,H16,0),0))=TRUE,ROWS(AccountsGroup),MATCH($I$13,OFFSET(AccountsGroup,H16,0),0))+H16 -> 14 | I17: =IF(OFFSET(Accountsnames,H17-1,0,1,1)=0,"",OFFSET(Accountsnames,H17-1,0,1,1)) -> Rente/bankkosten nog te betal. | J17: =IF(OFFSET(AccountsNumbers,H17-1,0,1,1)=0,"",OFFSET(AccountsNumbers,H17-1,0,1,1)) -> 1640 | N17: =IF($I17<>"",L17-K17,"") -> 0
A18: =IF(ISERROR(MATCH($B$13,OFFSET(AccountsGroup,A17,0),0))=TRUE,ROWS(AccountsGroup),MATCH($B$13,OFFSET(AccountsGroup,A17,0),0))+A17 -> 10 | B18: =IF(OFFSET(Accountsnames,A18-1,0,1,1)=0,"",OFFSET(Accountsnames,A18-1,0,1,1)) -> Debiteuren | C18: =IF(OFFSET(AccountsNumbers,A18-1,0,1,1)=0,"",OFFSET(AccountsNumbers,A18-1,0,1,1)) -> 1300 | G18: =IF($B18<>"",D18-E18,"") -> 0 | H18: =IF(ISERROR(MATCH($I$13,OFFSET(AccountsGroup,H17,0),0))=TRUE,ROWS(AccountsGroup),MATCH($I$13,OFFSET(AccountsGroup,H17,0),0))+H17 -> 15 | I18: =IF(OFFSET(Accountsnames,H18-1,0,1,1)=0,"",OFFSET(Accountsnames,H18-1,0,1,1)) -> OB 2020 kw.4 | J18: =IF(OFFSET(AccountsNumbers,H18-1,0,1,1)=0,"",OFFSET(AccountsNumbers,H18-1,0,1,1)) -> 1650 | N18: =IF($I18<>"",L18-K18,"") -> 0
A19: =IF(ISERROR(MATCH($B$13,OFFSET(AccountsGroup,A18,0),0))=TRUE,ROWS(AccountsGroup),MATCH($B$13,OFFSET(AccountsGroup,A18,0),0))+A18 -> 121 | B19: =IF(OFFSET(Accountsnames,A19-1,0,1,1)=0,"",OFFSET(Accountsnames,A19-1,0,1,1)) | C19: =IF(OFFSET(AccountsNumbers,A19-1,0,1,1)=0,"",OFFSET(AccountsNumbers,A19-1,0,1,1)) | G19: =IF($B19<>"",D19-E19,"") | H19: =IF(ISERROR(MATCH($I$13,OFFSET(AccountsGroup,H18,0),0))=TRUE,ROWS(AccountsGroup),MATCH($I$13,OFFSET(AccountsGroup,H18,0),0))+H18 -> 16 | I19: =IF(OFFSET(Accountsnames,H19-1,0,1,1)=0,"",OFFSET(Accountsnames,H19-1,0,1,1)) -> OB 2020 suppl. | J19: =IF(OFFSET(AccountsNumbers,H19-1,0,1,1)=0,"",OFFSET(AccountsNumbers,H19-1,0,1,1)) -> 1651 | N19: =IF($I19<>"",L19-K19,"") -> 0
A20: =IF(ISERROR(MATCH($B$13,OFFSET(AccountsGroup,A19,0),0))=TRUE,ROWS(AccountsGroup),MATCH($B$13,OFFSET(AccountsGroup,A19,0),0))+A19 -> 232 | B20: =IF(OFFSET(Accountsnames,A20-1,0,1,1)=0,"",OFFSET(Accountsnames,A20-1,0,1,1)) | C20: =IF(OFFSET(AccountsNumbers,A20-1,0,1,1)=0,"",OFFSET(AccountsNumbers,A20-1,0,1,1)) | G20: =IF($B20<>"",D20-E20,"") | H20: =IF(ISERROR(MATCH($I$13,OFFSET(AccountsGroup,H19,0),0))=TRUE,ROWS(AccountsGroup),MATCH($I$13,OFFSET(AccountsGroup,H19,0),0))+H19 -> 17 | I20: =IF(OFFSET(Accountsnames,H20-1,0,1,1)=0,"",OFFSET(Accountsnames,H20-1,0,1,1)) -> Btw hoog af te dragen | J20: =IF(OFFSET(AccountsNumbers,H20-1,0,1,1)=0,"",OFFSET(AccountsNumbers,H20-1,0,1,1)) -> 1701 | N20: =IF($I20<>"",L20-K20,"") -> 0
A21: =IF(ISERROR(MATCH($B$13,OFFSET(AccountsGroup,A20,0),0))=TRUE,ROWS(AccountsGroup),MATCH($B$13,OFFSET(AccountsGroup,A20,0),0))+A20 -> 343 | B21: =IF(OFFSET(Accountsnames,A21-1,0,1,1)=0,"",OFFSET(Accountsnames,A21-1,0,1,1)) | C21: =IF(OFFSET(AccountsNumbers,A21-1,0,1,1)=0,"",OFFSET(AccountsNumbers,A21-1,0,1,1)) | G21: =IF($B21<>"",D21-E21,"") | H21: =IF(ISERROR(MATCH($I$13,OFFSET(AccountsGroup,H20,0),0))=TRUE,ROWS(AccountsGroup),MATCH($I$13,OFFSET(AccountsGroup,H20,0),0))+H20 -> 18 | I21: =IF(OFFSET(Accountsnames,H21-1,0,1,1)=0,"",OFFSET(Accountsnames,H21-1,0,1,1)) -> Btw laag af te dragen | J21: =IF(OFFSET(AccountsNumbers,H21-1,0,1,1)=0,"",OFFSET(AccountsNumbers,H21-1,0,1,1)) -> 1702 | N21: =IF($I21<>"",L21-K21,"") -> 0
A22: =IF(ISERROR(MATCH($B$13,OFFSET(AccountsGroup,A21,0),0))=TRUE,ROWS(AccountsGroup),MATCH($B$13,OFFSET(AccountsGroup,A21,0),0))+A21 -> 454 | B22: =IF(OFFSET(Accountsnames,A22-1,0,1,1)=0,"",OFFSET(Accountsnames,A22-1,0,1,1)) | C22: =IF(OFFSET(AccountsNumbers,A22-1,0,1,1)=0,"",OFFSET(AccountsNumbers,A22-1,0,1,1)) | G22: =IF($B22<>"",D22-E22,"") | H22: =IF(ISERROR(MATCH($I$13,OFFSET(AccountsGroup,H21,0),0))=TRUE,ROWS(AccountsGroup),MATCH($I$13,OFFSET(AccountsGroup,H21,0),0))+H21 -> 19 | I22: =IF(OFFSET(Accountsnames,H22-1,0,1,1)=0,"",OFFSET(Accountsnames,H22-1,0,1,1)) -> Btw hoog te verrekenen | J22: =IF(OFFSET(AccountsNumbers,H22-1,0,1,1)=0,"",OFFSET(AccountsNumbers,H22-1,0,1,1)) -> 1703 | N22: =IF($I22<>"",L22-K22,"") -> 0
A23: =IF(ISERROR(MATCH($B$13,OFFSET(AccountsGroup,A22,0),0))=TRUE,ROWS(AccountsGroup),MATCH($B$13,OFFSET(AccountsGroup,A22,0),0))+A22 -> 565 | B23: =IF(OFFSET(Accountsnames,A23-1,0,1,1)=0,"",OFFSET(Accountsnames,A23-1,0,1,1)) | C23: =IF(OFFSET(AccountsNumbers,A23-1,0,1,1)=0,"",OFFSET(AccountsNumbers,A23-1,0,1,1)) | G23: =IF($B23<>"",D23-E23,"") | H23: =IF(ISERROR(MATCH($I$13,OFFSET(AccountsGroup,H22,0),0))=TRUE,ROWS(AccountsGroup),MATCH($I$13,OFFSET(AccountsGroup,H22,0),0))+H22 -> 20 | I23: =IF(OFFSET(Accountsnames,H23-1,0,1,1)=0,"",OFFSET(Accountsnames,H23-1,0,1,1)) -> Btw laag te verrekenen | J23: =IF(OFFSET(AccountsNumbers,H23-1,0,1,1)=0,"",OFFSET(AccountsNumbers,H23-1,0,1,1)) -> 1704 | N23: =IF($I23<>"",L23-K23,"") -> 0
A24: =IF(ISERROR(MATCH($B$13,OFFSET(AccountsGroup,A23,0),0))=TRUE,ROWS(AccountsGroup),MATCH($B$13,OFFSET(AccountsGroup,A23,0),0))+A23 -> 676 | B24: =IF(OFFSET(Accountsnames,A24-1,0,1,1)=0,"",OFFSET(Accountsnames,A24-1,0,1,1)) | C24: =IF(OFFSET(AccountsNumbers,A24-1,0,1,1)=0,"",OFFSET(AccountsNumbers,A24-1,0,1,1)) | G24: =IF($B24<>"",D24-E24,"") | H24: =IF(ISERROR(MATCH($I$13,OFFSET(AccountsGroup,H23,0),0))=TRUE,ROWS(AccountsGroup),MATCH($I$13,OFFSET(AccountsGroup,H23,0),0))+H23 -> 21 | I24: =IF(OFFSET(Accountsnames,H24-1,0,1,1)=0,"",OFFSET(Accountsnames,H24-1,0,1,1)) -> Btw privegebruik | J24: =IF(OFFSET(AccountsNumbers,H24-1,0,1,1)=0,"",OFFSET(AccountsNumbers,H24-1,0,1,1)) -> 1710 | N24: =IF($I24<>"",L24-K24,"") -> 0
A25: =IF(ISERROR(MATCH($B$13,OFFSET(AccountsGroup,A24,0),0))=TRUE,ROWS(AccountsGroup),MATCH($B$13,OFFSET(AccountsGroup,A24,0),0))+A24 -> 787 | B25: =IF(OFFSET(Accountsnames,A25-1,0,1,1)=0,"",OFFSET(Accountsnames,A25-1,0,1,1)) | C25: =IF(OFFSET(AccountsNumbers,A25-1,0,1,1)=0,"",OFFSET(AccountsNumbers,A25-1,0,1,1)) | G25: =IF($B25<>"",D25-E25,"") | H25: =IF(ISERROR(MATCH($I$13,OFFSET(AccountsGroup,H24,0),0))=TRUE,ROWS(AccountsGroup),MATCH($I$13,OFFSET(AccountsGroup,H24,0),0))+H24 -> 22 | I25: =IF(OFFSET(Accountsnames,H25-1,0,1,1)=0,"",OFFSET(Accountsnames,H25-1,0,1,1)) -> Btw bet./ontv. lopend boekjaar | J25: =IF(OFFSET(AccountsNumbers,H25-1,0,1,1)=0,"",OFFSET(AccountsNumbers,H25-1,0,1,1)) -> 1750 | N25: =IF($I25<>"",L25-K25,"") -> 0
... A30: =IF(ISERROR(MATCH($B$13,OFFSET(AccountsGroup,A29,0),0))=TRUE,ROWS(AccountsGroup),MATCH($B$13,OFFSET(AccountsGroup,A29,0),0))+A29 -> 1342 | B30: =IF(OFFSET(Accountsnames,A30-1,0,1,1)=0,"",OFFSET(Accountsnames,A30-1,0,1,1)) | C30: =IF(OFFSET(AccountsNumbers,A30-1,0,1,1)=0,"",OFFSET(AccountsNumbers,A30-1,0,1,1)) | G30: =IF($B30<>"",D30-E30,"") | H30: =IF(ISERROR(MATCH($I$13,OFFSET(AccountsGroup,H29,0),0))=TRUE,ROWS(AccountsGroup),MATCH($I$13,OFFSET(AccountsGroup,H29,0),0))+H29 -> 357 | I30: =IF(OFFSET(Accountsnames,H30-1,0,1,1)=0,"",OFFSET(Accountsnames,H30-1,0,1,1)) | J30: =IF(OFFSET(AccountsNumbers,H30-1,0,1,1)=0,"",OFFSET(AccountsNumbers,H30-1,0,1,1)) | N30: =IF($I30<>"",L30-K30,"")
G31: =IF($B31<>"",D31-E31,"")
B32: Totaal | G32: =SUM(G5:G27) -> 0 | I32: Totaal | N32: =SUM(N29:N30) -> 0
B37: Balans
D38: Debet | E38: Credit | G38: Debet | K38: Debet | L38: Credit | N38: =N3 -> Credit
B39: =B4 -> Materiële Bezittingen | C39: Rekeningnummer | I39: =I4 -> Vermogen | J39: Rekeningnummer
A40: =IF(ISERROR(MATCH($B$4,OFFSET(AccountsGroup,A39,0),0))=TRUE,ROWS(AccountsGroup),MATCH($B$4,OFFSET(AccountsGroup,A39,0),0))+A39 -> 1 | B40: =IF(OFFSET(Accountsnames,A40-1,0,1,1)=0,"",OFFSET(Accountsnames,A40-1,0,1,1)) -> Grond en terrein | C40: =IF(OFFSET(AccountsNumbers,A40-1,0,1,1)=0,"",OFFSET(AccountsNumbers,A40-1,0,1,1)) -> 100 | D40: =IF($B40="","",SUMPRODUCT((Journaal!$E$5:$E$1000=$C40)*(Journaal!$F$5:$F$1000))+D5) -> 0 | E40: =IF($B40="","",SUMPRODUCT((Journaal!$E$5:$E$1000=$C40)*(Journaal!$G$5:$G$1000))+E5) -> 0 | G40: =IF(B40<>"",D40-E40,"") -> 0 | H40: =IF(ISERROR(MATCH($I$4,OFFSET(AccountsGroup,H39,0),0))=TRUE,ROWS(AccountsGroup),MATCH($I$4,OFFSET(AccountsGroup,H39,0),0))+H39 -> 25 | I40: =IF(OFFSET(Accountsnames,H40-1,0,1,1)=0,"",OFFSET(Accountsnames,H40-1,0,1,1)) -> Stand FOR begin boekjaar | J40: =IF(OFFSET(AccountsNumbers,H40-1,0,1,1)=0,"",OFFSET(AccountsNumbers,H40-1,0,1,1)) -> 1980 | K40: =IF($I40="","",SUMPRODUCT((Journaal!$E$5:$E$1000=$J40)*(Journaal!$F$5:$F$1000))+K5) -> 0 | L40: =IF($I40="","",SUMPRODUCT((Journaal!$E$5:$E$1000=$J40)*(Journaal!$G$5:$G$1000))+L5) -> 2300 | N40: =IF(I40<>"",L40-K40,"") -> 2300
A41: =IF(ISERROR(MATCH($B$4,OFFSET(AccountsGroup,A40,0),0))=TRUE,ROWS(AccountsGroup),MATCH($B$4,OFFSET(AccountsGroup,A40,0),0))+A40 -> 2 | B41: =IF(OFFSET(Accountsnames,A41-1,0,1,1)=0,"",OFFSET(Accountsnames,A41-1,0,1,1)) -> Gebouwen | C41: =IF(OFFSET(AccountsNumbers,A41-1,0,1,1)=0,"",OFFSET(AccountsNumbers,A41-1,0,1,1)) -> 200 | D41: =IF($B41="","",SUMPRODUCT((Journaal!$E$5:$E$1000=$C41)*(Journaal!$F$5:$F$1000))+D6) -> 80000 | E41: =IF($B41="","",SUMPRODUCT((Journaal!$E$5:$E$1000=$C41)*(Journaal!$G$5:$G$1000))+E6) -> 0 | G41: =IF(B41<>"",D41-E41,"") -> 80000 | H41: =IF(ISERROR(MATCH($I$4,OFFSET(AccountsGroup,H40,0),0))=TRUE,ROWS(AccountsGroup),MATCH($I$4,OFFSET(AccountsGroup,H40,0),0))+H40 -> 26 | I41: =IF(OFFSET(Accountsnames,H41-1,0,1,1)=0,"",OFFSET(Accountsnames,H41-1,0,1,1)) -> Vermogen begin jaar | J41: =IF(OFFSET(AccountsNumbers,H41-1,0,1,1)=0,"",OFFSET(AccountsNumbers,H41-1,0,1,1)) -> 1990 | K41: =IF($I41="","",SUMPRODUCT((Journaal!$E$5:$E$1000=$J41)*(Journaal!$F$5:$F$1000))+K6) -> 63969.19 | L41: =IF($I41="","",SUMPRODUCT((Journaal!$E$5:$E$1000=$J41)*(Journaal!$G$5:$G$1000))+L6) -> 141901.06 | N41: =$G$69-SUM(N49:N62,N40) -> 74451.21
A42: =IF(ISERROR(MATCH($B$4,OFFSET(AccountsGroup,A41,0),0))=TRUE,ROWS(AccountsGroup),MATCH($B$4,OFFSET(AccountsGroup,A41,0),0))+A41 -> 3 | B42: =IF(OFFSET(Accountsnames,A42-1,0,1,1)=0,"",OFFSET(Accountsnames,A42-1,0,1,1)) -> Inventaris | C42: =IF(OFFSET(AccountsNumbers,A42-1,0,1,1)=0,"",OFFSET(AccountsNumbers,A42-1,0,1,1)) -> 300 | D42: =IF($B42="","",SUMPRODUCT((Journaal!$E$5:$E$1000=$C42)*(Journaal!$F$5:$F$1000))+D7) -> 4500 | E42: =IF($B42="","",SUMPRODUCT((Journaal!$E$5:$E$1000=$C42)*(Journaal!$G$5:$G$1000))+E7) -> 0 | G42: =IF(B42<>"",D42-E42,"") -> 4500 | H42: =IF(ISERROR(MATCH($I$4,OFFSET(AccountsGroup,H41,0),0))=TRUE,ROWS(AccountsGroup),MATCH($I$4,OFFSET(AccountsGroup,H41,0),0))+H41 -> 137 | I42: =IF(OFFSET(Accountsnames,H42-1,0,1,1)=0,"",OFFSET(Accountsnames,H42-1,0,1,1)) | J42: =IF(OFFSET(AccountsNumbers,H42-1,0,1,1)=0,"",OFFSET(AccountsNumbers,H42-1,0,1,1)) | K42: =IF($I42="","",SUMPRODUCT((Journaal!$E$5:$E$1000=$J42)*(Journaal!$F$5:$F$1000))+K7) | L42: =IF($I42="","",SUMPRODUCT((Journaal!$E$5:$E$1000=$J42)*(Journaal!$G$5:$G$1000))+L7) | N42: =IF(I42<>"",L42-K42,"")
A43: =IF(ISERROR(MATCH($B$4,OFFSET(AccountsGroup,A42,0),0))=TRUE,ROWS(AccountsGroup),MATCH($B$4,OFFSET(AccountsGroup,A42,0),0))+A42 -> 4 | B43: =IF(OFFSET(Accountsnames,A43-1,0,1,1)=0,"",OFFSET(Accountsnames,A43-1,0,1,1)) -> Voorraden | C43: =IF(OFFSET(AccountsNumbers,A43-1,0,1,1)=0,"",OFFSET(AccountsNumbers,A43-1,0,1,1)) -> 500 | D43: =IF($B43="","",SUMPRODUCT((Journaal!$E$5:$E$1000=$C43)*(Journaal!$F$5:$F$1000))+D8) -> 25000 | E43: =IF($B43="","",SUMPRODUCT((Journaal!$E$5:$E$1000=$C43)*(Journaal!$G$5:$G$1000))+E8) -> 0 | G43: =IF(B43<>"",D43-E43,"") -> 25000 | H43: =IF(ISERROR(MATCH($I$4,OFFSET(AccountsGroup,H42,0),0))=TRUE,ROWS(AccountsGroup),MATCH($I$4,OFFSET(AccountsGroup,H42,0),0))+H42 -> 248 | I43: =IF(OFFSET(Accountsnames,H43-1,0,1,1)=0,"",OFFSET(Accountsnames,H43-1,0,1,1)) | J43: =IF(OFFSET(AccountsNumbers,H43-1,0,1,1)=0,"",OFFSET(AccountsNumbers,H43-1,0,1,1)) | K43: =IF($I43="","",SUMPRODUCT((Journaal!$E$5:$E$1000=$J43)*(Journaal!$F$5:$F$1000))+K8) | L43: =IF($I43="","",SUMPRODUCT((Journaal!$E$5:$E$1000=$J43)*(Journaal!$G$5:$G$1000))+L8) | N43: =IF(I43<>"",L43-K43,"")
A44: =IF(ISERROR(MATCH($B$4,OFFSET(AccountsGroup,A43,0),0))=TRUE,ROWS(AccountsGroup),MATCH($B$4,OFFSET(AccountsGroup,A43,0),0))+A43 -> 5 | B44: =IF(OFFSET(Accountsnames,A44-1,0,1,1)=0,"",OFFSET(Accountsnames,A44-1,0,1,1)) -> Voertuigen | C44: =IF(OFFSET(AccountsNumbers,A44-1,0,1,1)=0,"",OFFSET(AccountsNumbers,A44-1,0,1,1)) -> 800 | D44: =IF($B44="","",SUMPRODUCT((Journaal!$E$5:$E$1000=$C44)*(Journaal!$F$5:$F$1000))+D9) -> 13252 | E44: =IF($B44="","",SUMPRODUCT((Journaal!$E$5:$E$1000=$C44)*(Journaal!$G$5:$G$1000))+E9) -> 0 | G44: =IF(B44<>"",D44-E44,"") -> 13252 | H44: =IF(ISERROR(MATCH($I$4,OFFSET(AccountsGroup,H43,0),0))=TRUE,ROWS(AccountsGroup),MATCH($I$4,OFFSET(AccountsGroup,H43,0),0))+H43 -> 359 | I44: =IF(OFFSET(Accountsnames,H44-1,0,1,1)=0,"",OFFSET(Accountsnames,H44-1,0,1,1)) | J44: =IF(OFFSET(AccountsNumbers,H44-1,0,1,1)=0,"",OFFSET(AccountsNumbers,H44-1,0,1,1)) | K44: =IF($I44="","",SUMPRODUCT((Journaal!$E$5:$E$1000=$J44)*(Journaal!$F$5:$F$1000))+K9) | L44: =IF($I44="","",SUMPRODUCT((Journaal!$E$5:$E$1000=$J44)*(Journaal!$G$5:$G$1000))+L9) | N44: =IF(I44<>"",L44-K44,"")
A45: =IF(ISERROR(MATCH($B$4,OFFSET(AccountsGroup,A44,0),0))=TRUE,ROWS(AccountsGroup),MATCH($B$4,OFFSET(AccountsGroup,A44,0),0))+A44 -> 116 | B45: =IF(OFFSET(Accountsnames,A45-1,0,1,1)=0,"",OFFSET(Accountsnames,A45-1,0,1,1)) | C45: =IF(OFFSET(AccountsNumbers,A45-1,0,1,1)=0,"",OFFSET(AccountsNumbers,A45-1,0,1,1)) | D45: =IF($B45="","",SUMPRODUCT((Journaal!$E$5:$E$1000=$C45)*(Journaal!$F$5:$F$1000))+D10) | E45: =IF($B45="","",SUMPRODUCT((Journaal!$E$5:$E$1000=$C45)*(Journaal!$G$5:$G$1000))+E10) | G45: =IF(B45<>"",D45-E45,"") | H45: =IF(ISERROR(MATCH($I$4,OFFSET(AccountsGroup,H44,0),0))=TRUE,ROWS(AccountsGroup),MATCH($I$4,OFFSET(AccountsGroup,H44,0),0))+H44 -> 470 | I45: =IF(OFFSET(Accountsnames,H45-1,0,1,1)=0,"",OFFSET(Accountsnames,H45-1,0,1,1)) | J45: =IF(OFFSET(AccountsNumbers,H45-1,0,1,1)=0,"",OFFSET(AccountsNumbers,H45-1,0,1,1)) | K45: =IF($I45="","",SUMPRODUCT((Journaal!$E$5:$E$1000=$J45)*(Journaal!$F$5:$F$1000))+K10) | L45: =IF($I45="","",SUMPRODUCT((Journaal!$E$5:$E$1000=$J45)*(Journaal!$G$5:$G$1000))+L10) | N45: =IF(I45<>"",L45-K45,"")
A46: =IF(ISERROR(MATCH($B$4,OFFSET(AccountsGroup,A45,0),0))=TRUE,ROWS(AccountsGroup),MATCH($B$4,OFFSET(AccountsGroup,A45,0),0))+A45 -> 227 | B46: =IF(OFFSET(Accountsnames,A46-1,0,1,1)=0,"",OFFSET(Accountsnames,A46-1,0,1,1)) | C46: =IF(OFFSET(AccountsNumbers,A46-1,0,1,1)=0,"",OFFSET(AccountsNumbers,A46-1,0,1,1)) | D46: =IF($B46="","",SUMPRODUCT((Journaal!$E$5:$E$1000=$C46)*(Journaal!$F$5:$F$1000))+D11) | E46: =IF($B46="","",SUMPRODUCT((Journaal!$E$5:$E$1000=$C46)*(Journaal!$G$5:$G$1000))+E11) | G46: =IF(B46<>"",D46-E46,"") | H46: =IF(ISERROR(MATCH($I$4,OFFSET(AccountsGroup,H45,0),0))=TRUE,ROWS(AccountsGroup),MATCH($I$4,OFFSET(AccountsGroup,H45,0),0))+H45 -> 581 | I46: =IF(OFFSET(Accountsnames,H46-1,0,1,1)=0,"",OFFSET(Accountsnames,H46-1,0,1,1)) | J46: =IF(OFFSET(AccountsNumbers,H46-1,0,1,1)=0,"",OFFSET(AccountsNumbers,H46-1,0,1,1)) | K46: =IF($I46="","",SUMPRODUCT((Journaal!$E$5:$E$1000=$J46)*(Journaal!$F$5:$F$1000))+K11) | L46: =IF($I46="","",SUMPRODUCT((Journaal!$E$5:$E$1000=$J46)*(Journaal!$G$5:$G$1000))+L11) | N46: =IF(I46<>"",L46-K46,"")
N47: =IF(I47<>"",L47-K47,"")
B48: =B13 -> Financiële Bezittingen | C48: Rekeningnummer | I48: Schulden | J48: Rekeningnummer
A49: =IF(ISERROR(MATCH($B$13,OFFSET(AccountsGroup,A48,0),0))=TRUE,ROWS(AccountsGroup),MATCH($B$13,OFFSET(AccountsGroup,A48,0),0))+A48 -> 6 | B49: =IF(OFFSET(Accountsnames,A49-1,0,1,1)=0,"",OFFSET(Accountsnames,A49-1,0,1,1)) -> Kas | C49: =IF(OFFSET(AccountsNumbers,A49-1,0,1,1)=0,"",OFFSET(AccountsNumbers,A49-1,0,1,1)) -> 1000 | D49: =IF($B49="","",SUMPRODUCT((Journaal!$E$5:$E$1000=$C49)*(Journaal!$F$5:$F$1000))+D14) -> 150 | E49: =IF($B49="","",SUMPRODUCT((Journaal!$E$5:$E$1000=$C49)*(Journaal!$G$5:$G$1000))+E14) -> 0 | G49: =IF(B49<>"",D49-E49,"") -> 150 | H49: =IF(ISERROR(MATCH($I$13,OFFSET(AccountsGroup,H48,0),0))=TRUE,ROWS(AccountsGroup),MATCH($I$13,OFFSET(AccountsGroup,H48,0),0))+H48 -> 11 | I49: =IF(OFFSET(Accountsnames,H49-1,0,1,1)=0,"",OFFSET(Accountsnames,H49-1,0,1,1)) -> Crediteuren | J49: =IF(OFFSET(AccountsNumbers,H49-1,0,1,1)=0,"",OFFSET(AccountsNumbers,H49-1,0,1,1)) -> 1600 | K49: =IF($I49="","",SUMPRODUCT((Journaal!$E$5:$E$1000=$J49)*(Journaal!$F$5:$F$1000))+K14) -> 14778.09 | L49: =IF($I49="","",SUMPRODUCT((Journaal!$E$5:$E$1000=$J49)*(Journaal!$G$5:$G$1000))+L14) -> 8730.19 | N49: =IF(I49<>"",L49-K49,"") -> -6047.9
...

Sheet Debiteuren
B2: Debiteuren | C2: 1300 | J2: Debiteur | K2: Elektro Internationaal bv | L2: <<< Kies debiteur
A4: Rekening | B4: Naam | C4: Startbedrag | D4: Debet | E4: Credit | F4: Mutatie | G4: Saldo | I4: Naam | J4: Nr | K4: Datum | L4: Rekening | M4: Rekeningnummer | N4: Debet | O4: Credit | P4: Omschrijving
A5: =C2 -> 1300 | B5: =IF(OFFSET(Debtors,ROW()-5,0,1,1)<>"",OFFSET(Debtors,ROW()-5,0,1,1),"") -> Transportbedrijf Dijkstra | D5: =IF(B5="","",SUMPRODUCT((Journaal!$H$5:$H$1000=$B5)*(Journaal!$F$5:$F$1000))) -> 0 | E5: =IF(B5="","",SUMPRODUCT((Journaal!$H$5:$H$1000=$B5)*(Journaal!$G$5:$G$1000))) -> 0 | F5: =IF(B5<>"",D5-E5,"") -> 0 | G5: =IF(B5="","",C5+F5) -> 0 | I5: =MATCH($K$2,OFFSET(Journaal!$H$5,0,0,Journaal!$D$3,1),0) -> 71 | J5: =IF(ISERROR($I5)=TRUE,"",OFFSET(Journaal!B$4,$I5,0)) -> 36 | K5: =IF(ISERROR($I5)=TRUE,"",OFFSET(Journaal!C$4,$I5,0)) -> 44590 | L5: =IF(ISERROR($I5)=TRUE,"",OFFSET(Journaal!D$4,$I5,0)) -> Debiteuren | M5: =IF(ISERROR($I5)=TRUE,"",OFFSET(Journaal!E$4,$I5,0)) -> 1300 | N5: =IF(ISERROR($I5)=TRUE,"",OFFSET(Journaal!F$4,$I5,0)) -> 0 | O5: =IF(ISERROR($I5)=TRUE,"",OFFSET(Journaal!G$4,$I5,0)) -> 1000 | P5: =IF(ISERROR($I5)=TRUE,"",IF(OFFSET(Journaal!I$4,$I5,0)=0,"",OFFSET(Journaal!I$4,$I5,0))) -> Order 2345 (deelontvangst)
A6: =A5 -> 1300 | B6: =IF(OFFSET(Debtors,ROW()-5,0,1,1)<>"",OFFSET(Debtors,ROW()-5,0,1,1),"") -> De Groene Pers | D6: =IF(B6="","",SUMPRODUCT((Journaal!$H$5:$H$1000=$B6)*(Journaal!$F$5:$F$1000))) -> 0 | E6: =IF(B6="","",SUMPRODUCT((Journaal!$H$5:$H$1000=$B6)*(Journaal!$G$5:$G$1000))) -> 0 | F6: =IF(B6<>"",D6-E6,"") -> 0 | G6: =IF(B6="","",C6+F6) -> 0 | I6: =MATCH($K$2,OFFSET(Journaal!$H$5,I5,0,Journaal!$D$3,1),0)+I5 -> 97 | J6: =IF(ISERROR($I6)=TRUE,"",OFFSET(Journaal!B$4,$I6,0)) -> 49 | K6: =IF(ISERROR($I6)=TRUE,"",OFFSET(Journaal!C$4,$I6,0)) -> 44586 | L6: =IF(ISERROR($I6)=TRUE,"",OFFSET(Journaal!D$4,$I6,0)) -> Debiteuren | M6: =IF(ISERROR($I6)=TRUE,"",OFFSET(Journaal!E$4,$I6,0)) -> 1300 | N6: =IF(ISERROR($I6)=TRUE,"",OFFSET(Journaal!F$4,$I6,0)) -> 0 | O6: =IF(ISERROR($I6)=TRUE,"",OFFSET(Journaal!G$4,$I6,0)) -> 1000 | P6: =IF(ISERROR($I6)=TRUE,"",IF(OFFSET(Journaal!I$4,$I6,0)=0,"",OFFSET(Journaal!I$4,$I6,0))) -> Order 2345 (deelontvangst)
A7: =A6 -> 1300 | B7: =IF(OFFSET(Debtors,ROW()-5,0,1,1)<>"",OFFSET(Debtors,ROW()-5,0,1,1),"") -> Veilingbedrijf Aalsmeer | D7: =IF(B7="","",SUMPRODUCT((Journaal!$H$5:$H$1000=$B7)*(Journaal!$F$5:$F$1000))) -> 0 | E7: =IF(B7="","",SUMPRODUCT((Journaal!$H$5:$H$1000=$B7)*(Journaal!$G$5:$G$1000))) -> 60.97 | F7: =IF(B7<>"",D7-E7,"") -> -60.97 | G7: =IF(B7="","",C7+F7) -> -60.97 | I7: =MATCH($K$2,OFFSET(Journaal!$H$5,I6,0,Journaal!$D$3,1),0)+I6 -> #N/A | J7: =IF(ISERROR($I7)=TRUE,"",OFFSET(Journaal!B$4,$I7,0)) | K7: =IF(ISERROR($I7)=TRUE,"",OFFSET(Journaal!C$4,$I7,0)) | L7: =IF(ISERROR($I7)=TRUE,"",OFFSET(Journaal!D$4,$I7,0)) | M7: =IF(ISERROR($I7)=TRUE,"",OFFSET(Journaal!E$4,$I7,0)) | N7: =IF(ISERROR($I7)=TRUE,"",OFFSET(Journaal!F$4,$I7,0)) | O7: =IF(ISERROR($I7)=TRUE,"",OFFSET(Journaal!G$4,$I7,0)) | P7: =IF(ISERROR($I7)=TRUE,"",IF(OFFSET(Journaal!I$4,$I7,0)=0,"",OFFSET(Journaal!I$4,$I7,0)))
